Workbook

Sheet DADOS
A5: EXERCÍCIO: | C5: 2025
A8: CONTRATANTE | D8: Prefeitura Municipal de Americana
A9: CONTRATADA | D9: Associação Beneficente Residencial Evangélico Benaiah
A10: ENDEREÇO | D10: Rua Benaiah, 290 - Terramérica - Americana/SP – CEP 13.468-824
A11: RESPONSAVEL PELA ORGANIZAÇÃO | D11: HELIO DE OLIVEIRA CAMARGO
A13: TERMO DE COLABORAÇÃO | D13: 169/2024 | E13: ADITAMENTO
A14: CNPJ: | B14: 43.266.758/0001-89
A18: PARCELA
A19: Valor das Parcelas | D19: RH | E19: UTILIDADES PÚBLICAS | F19: GENEROS ALIMENTICIOS | G19: MATERIAIS DE CONSUMO | H19: COMBUSTIVEL | I19: OUTRAS DESPESAS | J19: TOTAL MANUTENÇÃO | K19: TOTAL GERAL
C20: =1612683.96-164215.6-1058730.08-116162+120640.56-116162+120640.56-116162+120640.56-54684 -> 348489.96 | D20: =C20 -> 348489.96 | H20: 0 | I20: 0 | J20: =SUM(E20:I20) -> 0 | K20: =J20+D20 -> 348489.96
A21: 01 | B21: janeiro | C21: =ROUNDDOWN(C$20/3,2)-1.32 -> 116162 | D21: =C21 -> 116162 | E21: =ROUNDDOWN(E$20/12,2) -> 0 | F21: =ROUNDDOWN(F$20/12,2) -> 0 | G21: =ROUNDDOWN(G$20/12,2) -> 0 | H21: =ROUNDDOWN(H$20/12,2) -> 0 | I21: =ROUNDDOWN(I$20/12,2) -> 0 | J21: =SUM(E21:I21) -> 0 | K21: =J21+D21 -> 116162
A22: 02 | B22: fevereiro | C22: =ROUNDDOWN(C$20/3,2)-1.32 -> 116162 | D22: =C22 -> 116162 | E22: =ROUNDDOWN(E$20/12,2) -> 0 | F22: =ROUNDDOWN(F$20/12,2) -> 0 | G22: =ROUNDDOWN(G$20/12,2) -> 0 | H22: =ROUNDDOWN(H$20/12,2) -> 0 | I22: =ROUNDDOWN(I$20/12,2) -> 0 | J22: =SUM(E22:I22) -> 0 | K22: =J22+D22 -> 116162
A23: 03 | B23: março | C23: =ROUNDDOWN(C$20/3,2)-1.32+3.96-58346.26 -> 57819.7 | D23: =C23 -> 57819.7 | E23: =ROUNDDOWN(E$20/12,2) -> 0 | F23: =ROUNDDOWN(F$20/12,2) -> 0 | G23: =ROUNDDOWN(G$20/12,2) -> 0 | H23: =ROUNDDOWN(H$20/12,2) -> 0 | I23: =ROUNDDOWN(I$20/12,2) -> 0 | J23: =SUM(E23:I23) -> 0 | K23: =J23+D23 -> 57819.7
A24: 04 | B24: abril | E24: =ROUNDDOWN(E$20/12,2) -> 0 | F24: =ROUNDDOWN(F$20/12,2) -> 0 | G24: =ROUNDDOWN(G$20/12,2) -> 0 | H24: =ROUNDDOWN(H$20/12,2) -> 0 | I24: =ROUNDDOWN(I$20/12,2) -> 0 | J24: =SUM(E24:I24) -> 0 | K24: =J24+D24 -> 0
A25: 05 | B25: maio | E25: =ROUNDDOWN(E$20/12,2) -> 0 | F25: =ROUNDDOWN(F$20/12,2) -> 0 | G25: =ROUNDDOWN(G$20/12,2) -> 0 | H25: =ROUNDDOWN(H$20/12,2) -> 0 | I25: =ROUNDDOWN(I$20/12,2) -> 0 | J25: =SUM(E25:I25) -> 0 | K25: =J25+D25 -> 0
A26: 06 | B26: junho | E26: =ROUNDDOWN(E$20/12,2) -> 0 | F26: =ROUNDDOWN(F$20/12,2) -> 0 | G26: =ROUNDDOWN(G$20/12,2) -> 0 | H26: =ROUNDDOWN(H$20/12,2) -> 0 | I26: =ROUNDDOWN(I$20/12,2) -> 0 | J26: =SUM(E26:I26) -> 0 | K26: =J26+D26 -> 0
A27: 07 | B27: julho | E27: =ROUNDDOWN(E$20/12,2) -> 0 | F27: =ROUNDDOWN(F$20/12,2) -> 0 | G27: =ROUNDDOWN(G$20/12,2) -> 0 | H27: =ROUNDDOWN(H$20/12,2) -> 0 | I27: =ROUNDDOWN(I$20/12,2) -> 0 | J27: =SUM(E27:I27) -> 0 | K27: =J27+D27 -> 0
A28: 08 | B28: agosto | E28: =ROUNDDOWN(E$20/12,2) -> 0 | F28: =ROUNDDOWN(F$20/12,2) -> 0 | G28: =ROUNDDOWN(G$20/12,2) -> 0 | H28: =ROUNDDOWN(H$20/12,2) -> 0 | I28: =ROUNDDOWN(I$20/12,2) -> 0 | J28: =SUM(E28:I28) -> 0 | K28: =J28+D28 -> 0
A29: 09 | B29: setembro | E29: =ROUNDDOWN(E$20/12,2) -> 0 | F29: =ROUNDDOWN(F$20/12,2) -> 0 | G29: =ROUNDDOWN(G$20/12,2) -> 0 | H29: =ROUNDDOWN(H$20/12,2) -> 0 | I29: =ROUNDDOWN(I$20/12,2) -> 0 | J29: =SUM(E29:I29) -> 0 | K29: =J29+D29 -> 0
A30: 10 | B30: outubro | E30: =ROUNDDOWN(E$20/12,2) -> 0 | F30: =ROUNDDOWN(F$20/12,2) -> 0 | G30: =ROUNDDOWN(G$20/12,2) -> 0 | H30: =ROUNDDOWN(H$20/12,2) -> 0 | I30: =ROUNDDOWN(I$20/12,2) -> 0 | J30: =SUM(E30:I30) -> 0 | K30: =J30+D30 -> 0
A31: 11 | B31: novembro | E31: =ROUNDDOWN(E$20/12,2) -> 0 | F31: =ROUNDDOWN(F$20/12,2) -> 0 | G31: =ROUNDDOWN(G$20/12,2) -> 0 | H31: =ROUNDDOWN(H$20/12,2) -> 0 | I31: =ROUNDDOWN(I$20/12,2) -> 0 | J31: =SUM(E31:I31) -> 0 | K31: =J31+D31 -> 0
A32: 12 | B32: dezembro | E32: =ROUNDDOWN(E$20/12,2) -> 0 | F32: =ROUNDDOWN(F$20/12,2) -> 0 | G32: =ROUNDDOWN(G$20/12,2) -> 0 | H32: =ROUNDDOWN(H$20/12,2) -> 0 | I32: =ROUNDDOWN(I$20/12,2) -> 0 | J32: =SUM(E32:I32) -> 0 | K32: =J32+D32 -> 0
B33: TOTAIS | C33: =SUM(C21:C32) -> 290143.7 | D33: =SUM(D21:D32) -> 290143.7 | E33: =SUM(E21:E32) -> 0 | F33: =SUM(F21:F32) -> 0 | G33: =SUM(G21:G32) -> 0 | H33: =SUM(H21:H32) -> 0 | I33: =SUM(I21:I32) -> 0 | J33: =SUM(J21:J32) -> 0 | K33: =SUM(K21:K32) -> 290143.7
A35: =A21 | B35: =A21 | C35: =C21 -> 116162 | D35: =D21 -> 116162 | E35: (Cento e dezesseis mil, cento e sessenta e dois reais) acrescidos do saldo de recursos não
A36: =A22 | B36: =A22 | C36: =C22 -> 116162 | D36: =D22 -> 116162 | E36: (Cento e dezesseis mil, cento e sessenta e dois reais) acrescidos do saldo de recursos não
A37: =A23 | B37: =A23 | C37: =C23 -> 57819.7 | D37: =D23 -> 57819.7 | E37: (Cinquenta e sete mil, oitocentos e dezenove reais e noventa e seis centavos) acrescidos do saldo de recursos não

Sheet Parcela 10
A4: DEMONSTRATIVO INTEGRAL DAS RECEITAS E DESPESAS
D5: =DADOS!A5 -> EXERCÍCIO: | E5: =DADOS!C5 -> 2025
A8: =DADOS!A$8 -> CONTRATANTE | D8: =DADOS!D$8 -> Prefeitura Municipal de Americana
A9: =DADOS!A$9 -> CONTRATADA | D9: =DADOS!D$9 -> Associação Beneficente Residencial Evangélico Benaiah
A10: =DADOS!A$14 -> CNPJ: | D10: =DADOS!B$14 -> 43.266.758/0001-89
A11: =DADOS!A$10 -> ENDEREÇO | D11: =DADOS!D$10 -> Rua Benaiah, 290 - Terramérica - Americana/SP – CEP 13.468-824
A12: =DADOS!A$11 -> RESPONSAVEL PELA ORGANIZAÇÃO | D12: =DADOS!D$11 -> HELIO DE OLIVEIRA CAMARGO
A13: =DADOS!A$13 -> TERMO DE COLABORAÇÃO | D13: =DADOS!D13 -> 169/2024 | E13: =DADOS!E13 -> ADITAMENTO | F13: =DADOS!F13 -> 0
A16: PARCELA Nº | C16: 10
A17: DEMOSTRATICO DOS REPASSES PÚBLICOS RECEBIDOS
A18: ORIGEM DOS RECURSOS | C18: VALORES PREVISTOS - R$ | E18: DOC. DE CRÉDITO Nº | F18: DATA | G18: VALORES
G19: REPASSADOS -R$
A20: Municipal | D20: =DADOS!C21 -> 116162 | E20: 000001 | F20: 45681 | G20: 116162
F24: RECEITA COM APLICAÇÕES FINANCEIRAS DOS REPASSES PÚBLICOS
F25: SALDO DE RECURSOS PÚBLICOS NÃO APLICADOS
F26: TOTAL | G26: =SUM(G20:G25) -> 116162
F27: RECURSOS PROPRIOS APLICADOS PELA ENTIDADE
A28: Os signatários, na qualidade de representantes da Associação Beneficente Residencial Evangélico Benaiah, vem indicar,
A29: na forma abaixo detalhada, a aplicação dos recursos recebidos no exercício supramencionado, na importância total de
A30: =SUM(G20:G23) -> 116162 | B30: =DADOS!E35 -> (Cento e dezesseis mil, cento e sessenta e dois reais) acrescidos do saldo de recursos não
A31: aplicados, no valor de R$ | C31: {=G24:G25} -> 0 | D31: ( )
A32: DEMONSTRATIVO DAS DESPESAS REALIZADAS | C32: 0
A33: CATEGORIA OU FINALIDADE | D33: PERIODO DE | F33: ORIGEM DO | G33: VALORES
A34: DAS DESPESAS | D34: REALIZAÇÃO | F34: RECURSO | G34: APLICADOS
A35: RECURSOS HUMANOS | D35: =DADOS!B$21 -> janeiro | F35: Municipal | G35: =G107 -> 116162
A36: MANUTENÇÃO - Utilidades públicas | D36: =DADOS!B$21 -> janeiro | F36: Municipal | G36: =G115 -> 0
A37: MANUTENÇÃO - Gêneros alimentícios | D37: =DADOS!B$21 -> janeiro | F37: Municipal | G37: =G128 -> 0
A38: MANUTENÇÃO - Mateirais de consumo | D38: =DADOS!B$21 -> janeiro | F38: Municipal | G38: =G140 -> 0
A39: MANUTENÇÃO - Combustível | D39: =DADOS!B$21 -> janeiro | F39: Municipal | G39: =G146 -> 0
A40: MANUTENÇÃO - Outras despesas | D40: =DADOS!B$21 -> janeiro | F40: Municipal | G40: =G155 -> 0
A41: TOTAL DAS DESPESAS | G41: =SUM(G35:G40) -> 116162
A42: RECURSO PÚBLICO NÃO APLICADO | G42: =SUM(G20:G25)-G41 -> 0
A43: VALOR DEVOLVIDO AO ORGÃO CONCESSOR
A44: VALOR AUTORIZADO PARA APLICAÇÃO NO EXERCICIO SEGUINTE | G44: =G26-G41-G43 -> 0
A45: Declaramos, na qualidade de responsáveis pela Entidade supra epigrafada, sob as penalidades da Lei, que as despesas relacionadas, examinadas pelo Conselho Fiscal, comprovam a exata aplicação dos recursos recebidos para os fins indicados através da conta corrente 003/00004492-7, agência 0278, para finalidade específica, conforme programa de trabalho aprovado, proposto ao Órgão Concessor.
B47: Americana, | C47: 28 de fevereiro de 2025.
A53: Membros do Conselho Fiscal
B57: =A4 -> DEMONSTRATIVO INTEGRAL DAS RECEITAS E DESPESAS
D58: =D5 -> EXERCÍCIO: | E58: =E5 -> 2025
A60: =A8 -> CONTRATANTE | D60: =D8 -> Prefeitura Municipal de Americana
...

Sheet Parcela 11
A4: DEMONSTRATIVO INTEGRAL DAS RECEITAS E DESPESAS
D5: =DADOS!A5 -> EXERCÍCIO: | E5: =DADOS!C5 -> 2025
A8: =DADOS!A$8 -> CONTRATANTE | D8: =DADOS!D$8 -> Prefeitura Municipal de Americana
A9: =DADOS!A$9 -> CONTRATADA | D9: =DADOS!D$9 -> Associação Beneficente Residencial Evangélico Benaiah
A10: =DADOS!A$14 -> CNPJ: | D10: =DADOS!B$14 -> 43.266.758/0001-89
A11: =DADOS!A$10 -> ENDEREÇO | D11: =DADOS!D$10 -> Rua Benaiah, 290 - Terramérica - Americana/SP – CEP 13.468-824
A12: =DADOS!A$11 -> RESPONSAVEL PELA ORGANIZAÇÃO | D12: =DADOS!D$11 -> HELIO DE OLIVEIRA CAMARGO
A13: =DADOS!A$13 -> TERMO DE COLABORAÇÃO | D13: =DADOS!D13 -> 169/2024 | E13: =DADOS!E13 -> ADITAMENTO | F13: =DADOS!F13 -> 0
A16: PARCELA Nº | C16: 11
A17: DEMOSTRATICO DOS REPASSES PÚBLICOS RECEBIDOS
A18: ORIGEM DOS RECURSOS | C18: VALORES PREVISTOS - R$ | E18: DOC. DE CRÉDITO Nº | F18: DATA | G18: VALORES
G19: REPASSADOS -R$
A20: Municipal | D20: =DADOS!C22 -> 116162 | E20: 000001 | F20: 45713 | G20: 116162
F24: RECEITA COM APLICAÇÕES FINANCEIRAS DOS REPASSES PÚBLICOS
F25: SALDO DE RECURSOS PÚBLICOS NÃO APLICADOS | G25: ='Parcela 10'!G42 -> 0
F26: TOTAL | G26: =SUM(G20:G25) -> 116162
F27: RECURSOS PROPRIOS APLICADOS PELA ENTIDADE
A28: Os signatários, na qualidade de representantes da Associação Beneficente Residencial Evangélico Benaiah, vem indicar,
A29: na forma abaixo detalhada, a aplicação dos recursos recebidos no exercício supramencionado, na importância total de
A30: =SUM(G20:G23) -> 116162 | B30: =DADOS!E36 -> (Cento e dezesseis mil, cento e sessenta e dois reais) acrescidos do saldo de recursos não
A31: aplicados, no valor de R$ | C31: {=G24:G25} -> 0 | D31: ( )
A32: DEMONSTRATIVO DAS DESPESAS REALIZADAS | C32: 0
A33: CATEGORIA OU FINALIDADE | D33: PERIODO DE | F33: ORIGEM DO | G33: VALORES
A34: DAS DESPESAS | D34: REALIZAÇÃO | F34: RECURSO | G34: APLICADOS
A35: RECURSOS HUMANOS | D35: =DADOS!B$22 -> fevereiro | F35: Municipal | G35: =G107 -> 116162
A36: MANUTENÇÃO - Utilidades públicas | D36: =DADOS!B$22 -> fevereiro | F36: Municipal | G36: =G115 -> 0
A37: MANUTENÇÃO - Gêneros alimentícios | D37: =DADOS!B$22 -> fevereiro | F37: Municipal | G37: =G128 -> 0
A38: MANUTENÇÃO - Mateirais de consumo | D38: =DADOS!B$22 -> fevereiro | F38: Municipal | G38: =G140 -> 0
A39: MANUTENÇÃO - Combustível | D39: =DADOS!B$22 -> fevereiro | F39: Municipal | G39: =G146 -> 0
A40: MANUTENÇÃO - Outras despesas | D40: =DADOS!B$22 -> fevereiro | F40: Municipal | G40: =G155 -> 0
A41: TOTAL DAS DESPESAS | G41: =SUM(G35:G40) -> 116162
A42: RECURSO PÚBLICO NÃO APLICADO | G42: =SUM(G20:G25)-G41 -> 0
A43: VALOR DEVOLVIDO AO ORGÃO CONCESSOR
A44: VALOR AUTORIZADO PARA APLICAÇÃO NO EXERCICIO SEGUINTE | G44: =G26-G41-G43 -> 0
A45: Declaramos, na qualidade de responsáveis pela Entidade supra epigrafada, sob as penalidades da Lei, que as despesas relacionadas, examinadas pelo Conselho Fiscal, comprovam a exata aplicação dos recursos recebidos para os fins indicados através da conta corrente 003/00004492-7, agência 0278, para finalidade específica, conforme programa de trabalho aprovado, proposto ao Órgão Concessor.
B47: Americana, | C47: 21 de março de 2025.
A53: Membros do Conselho Fiscal
B57: =A4 -> DEMONSTRATIVO INTEGRAL DAS RECEITAS E DESPESAS
D58: =D5 -> EXERCÍCIO: | E58: =E5 -> 2025
A60: =A8 -> CONTRATANTE | D60: =D8 -> Prefeitura Municipal de Americana
...

Sheet Parcela 12
A4: DEMONSTRATIVO INTEGRAL DAS RECEITAS E DESPESAS
D5: =DADOS!A5 -> EXERCÍCIO: | E5: =DADOS!C5 -> 2025
A8: =DADOS!A$8 -> CONTRATANTE | D8: =DADOS!D$8 -> Prefeitura Municipal de Americana
A9: =DADOS!A$9 -> CONTRATADA | D9: =DADOS!D$9 -> Associação Beneficente Residencial Evangélico Benaiah
A10: =DADOS!A$14 -> CNPJ: | D10: =DADOS!B$14 -> 43.266.758/0001-89
A11: =DADOS!A$10 -> ENDEREÇO | D11: =DADOS!D$10 -> Rua Benaiah, 290 - Terramérica - Americana/SP – CEP 13.468-824
A12: =DADOS!A$11 -> RESPONSAVEL PELA ORGANIZAÇÃO | D12: =DADOS!D$11 -> HELIO DE OLIVEIRA CAMARGO
A13: =DADOS!A$13 -> TERMO DE COLABORAÇÃO | D13: =DADOS!D13 -> 169/2024 | E13: =DADOS!E13 -> ADITAMENTO | F13: =DADOS!F13 -> 0
A16: PARCELA Nº | C16: 12
A17: DEMOSTRATICO DOS REPASSES PÚBLICOS RECEBIDOS
A18: ORIGEM DOS RECURSOS | C18: VALORES PREVISTOS - R$ | E18: DOC. DE CRÉDITO Nº | F18: DATA | G18: VALORES
G19: REPASSADOS -R$
A20: Municipal | D20: =DADOS!C23 -> 57819.7 | E20: 000001 | F20: 45741 | G20: 57819.7
F24: RECEITA COM APLICAÇÕES FINANCEIRAS DOS REPASSES PÚBLICOS
F25: SALDO DE RECURSOS PÚBLICOS NÃO APLICADOS
F26: TOTAL | G26: =SUM(G20:G25) -> 57819.7
F27: RECURSOS PROPRIOS APLICADOS PELA ENTIDADE
A28: Os signatários, na qualidade de representantes da Associação Beneficente Residencial Evangélico Benaiah, vem indicar,
A29: na forma abaixo detalhada, a aplicação dos recursos recebidos no exercício supramencionado, na importância total de
A30: =SUM(G20:G23) -> 57819.7 | B30: =DADOS!E37 -> (Cinquenta e sete mil, oitocentos e dezenove reais e noventa e seis centavos) acrescidos do saldo de recursos não
A31: aplicados, no valor de R$ | C31: {=G24:G25} -> 0 | D31: ( )
A32: DEMONSTRATIVO DAS DESPESAS REALIZADAS | C32: 0
A33: CATEGORIA OU FINALIDADE | D33: PERIODO DE | F33: ORIGEM DO | G33: VALORES
A34: DAS DESPESAS | D34: REALIZAÇÃO | F34: RECURSO | G34: APLICADOS
A35: RECURSOS HUMANOS | D35: =DADOS!B$23 -> março | F35: Municipal | G35: =G107 -> 57819.7
A36: MANUTENÇÃO - Utilidades públicas | D36: =DADOS!B$23 -> março | F36: Municipal | G36: =G115 -> 0
A37: MANUTENÇÃO - Gêneros alimentícios | D37: =DADOS!B$23 -> março | F37: Municipal | G37: =G128 -> 0
A38: MANUTENÇÃO - Mateirais de consumo | D38: =DADOS!B$23 -> março | F38: Municipal | G38: =G140 -> 0
A39: MANUTENÇÃO - Combustível | D39: =DADOS!B$23 -> março | F39: Municipal | G39: =G146 -> 0
A40: MANUTENÇÃO - Outras despesas | D40: =DADOS!B$23 -> março | F40: Municipal | G40: =G155 -> 0
A41: TOTAL DAS DESPESAS | G41: =SUM(G35:G40) -> 57819.7
A42: RECURSO PÚBLICO NÃO APLICADO | G42: =SUM(G20:G25)-G41 -> 0
A43: VALOR DEVOLVIDO AO ORGÃO CONCESSOR
A44: VALOR AUTORIZADO PARA APLICAÇÃO NO EXERCICIO SEGUINTE | G44: =G26-G41-G43 -> 0
A45: Declaramos, na qualidade de responsáveis pela Entidade supra epigrafada, sob as penalidades da Lei, que as despesas relacionadas, examinadas pelo Conselho Fiscal, comprovam a exata aplicação dos recursos recebidos para os fins indicados através da conta corrente 003/00004492-7, agência 0278, para finalidade específica, conforme programa de trabalho aprovado, proposto ao Órgão Concessor.
B47: Americana, | C47: 05 de maio de 2025.
A53: Membros do Conselho Fiscal
B57: =A4 -> DEMONSTRATIVO INTEGRAL DAS RECEITAS E DESPESAS
D58: =D5 -> EXERCÍCIO: | E58: =E5 -> 2025
A60: =A8 -> CONTRATANTE | D60: =D8 -> Prefeitura Municipal de Americana
...

Sheet Parcela 4
A4: DEMONSTRATIVO INTEGRAL DAS RECEITAS E DESPESAS
D5: =DADOS!A5 -> EXERCÍCIO: | E5: =DADOS!C5 -> 2025
A8: =DADOS!A$8 -> CONTRATANTE | D8: =DADOS!D$8 -> Prefeitura Municipal de Americana
A9: =DADOS!A$9 -> CONTRATADA | D9: =DADOS!D$9 -> Associação Beneficente Residencial Evangélico Benaiah
A10: =DADOS!A$14 -> CNPJ: | D10: =DADOS!B$14 -> 43.266.758/0001-89
A11: =DADOS!A$10 -> ENDEREÇO | D11: =DADOS!D$10 -> Rua Benaiah, 290 - Terramérica - Americana/SP – CEP 13.468-824
A12: =DADOS!A$11 -> RESPONSAVEL PELA ORGANIZAÇÃO | D12: =DADOS!D$11 -> HELIO DE OLIVEIRA CAMARGO
A13: =DADOS!A$13 -> TERMO DE COLABORAÇÃO | D13: =DADOS!D13 -> 169/2024 | E13: =DADOS!E13 -> ADITAMENTO | F13: =DADOS!F13 -> 0
A16: PARCELA Nº | C16: 4
A17: DEMOSTRATICO DOS REPASSES PÚBLICOS RECEBIDOS
A18: ORIGEM DOS RECURSOS | C18: VALORES PREVISTOS - R$ | E18: DOC. DE CRÉDITO Nº | F18: DATA | G18: VALORES
G19: REPASSADOS -R$
A20: Municipal | D20: =DADOS!C24 -> 0
F24: RECEITA COM APLICAÇÕES FINANCEIRAS DOS REPASSES PÚBLICOS
F25: SALDO DE RECURSOS PÚBLICOS NÃO APLICADOS
F26: TOTAL | G26: =SUM(G20:G25) -> 0
F27: RECURSOS PROPRIOS APLICADOS PELA ENTIDADE
A28: Os signatários, na qualidade de representantes da Associação Beneficente Residencial Evangélico Benaiah, vem indicar,
A29: na forma abaixo detalhada, a aplicação dos recursos recebidos no exercício supramencionado, na importância total de
A30: =SUM(G20:G23) -> 0 | B30: (oitenta mil, oitocentos e sessenta reais), acrescidos do saldo de recursos não aplicados
C31: no valor de R$ | D31: =G25 -> 0 | E31: ( reais)
A32: DEMONSTRATIVO DAS DESPESAS REALIZADAS
A33: CATEGORIA OU FINALIDADE | D33: PERIODO DE | F33: ORIGEM DO | G33: VALORES
A34: DAS DESPESAS | D34: REALIZAÇÃO | F34: RECURSO | G34: APLICADOS
A35: RECURSOS HUMANOS | D35: =DADOS!B$24 -> abril | F35: Municipal | G35: =G104 -> 0
A36: MANUTENÇÃO - Utilidades públicas | D36: =DADOS!B$23 -> março | F36: Municipal | G36: =G112 -> 0
A37: MANUTENÇÃO - Gêneros alimentícios | D37: =DADOS!B$23 -> março | F37: Municipal | G37: =G125 -> 0
A38: MANUTENÇÃO - Mateirais de consumo | D38: =DADOS!B$23 -> março | F38: Municipal | G38: =G137 -> 0
A39: MANUTENÇÃO - Combustível | D39: =DADOS!B$23 -> março | F39: Municipal | G39: =G143 -> 0
A40: MANUTENÇÃO - Outras despesas | D40: =DADOS!B$23 -> março | F40: Municipal | G40: =G152 -> 0
A41: TOTAL DAS DESPESAS | G41: =SUM(G35:G40) -> 0
A42: RECURSO PÚBLICO NÃO APLICADO | G42: =SUM(G20:G23)-G41 -> 0
A43: VALOR DEVOLVIDO AO ORGÃO CONCESSOR
A44: VALOR AUTORIZADO PARA APLICAÇÃO NO EXERCICIO SEGUINTE | G44: =G26-G41-G43 -> 0
A45: Declaramos, na qualidade de responsáveis pela Entidade supra epigrafada, sob as penalidades da Lei, que as despesas relacionadas, examinadas pelo Conselho Fiscal, comprovam a exata aplicação dos recursos recebidos para os fins indicados através da conta corrente 003/00004492-7, agência 0278, para finalidade específica, conforme programa de trabalho aprovado, proposto ao Órgão Concessor.
B47: Americana, | C47: 05 de maio de 2021.
A53: Membros do Conselho Fiscal
B57: =A4 -> DEMONSTRATIVO INTEGRAL DAS RECEITAS E DESPESAS
D58: =D5 -> EXERCÍCIO: | E58: =E5 -> 2025
A60: =A8 -> CONTRATANTE | D60: =D8 -> Prefeitura Municipal de Americana
...

Sheet Parcela 5
A4: DEMONSTRATIVO INTEGRAL DAS RECEITAS E DESPESAS
D5: =DADOS!A5 -> EXERCÍCIO: | E5: =DADOS!C5 -> 2025
A8: =DADOS!A$8 -> CONTRATANTE | D8: =DADOS!D$8 -> Prefeitura Municipal de Americana
A9: =DADOS!A$9 -> CONTRATADA | D9: =DADOS!D$9 -> Associação Beneficente Residencial Evangélico Benaiah
A10: =DADOS!A$14 -> CNPJ: | D10: =DADOS!B$14 -> 43.266.758/0001-89
A11: =DADOS!A$10 -> ENDEREÇO | D11: =DADOS!D$10 -> Rua Benaiah, 290 - Terramérica - Americana/SP – CEP 13.468-824
A12: =DADOS!A$11 -> RESPONSAVEL PELA ORGANIZAÇÃO | D12: =DADOS!D$11 -> HELIO DE OLIVEIRA CAMARGO
A13: =DADOS!A$13 -> TERMO DE COLABORAÇÃO | D13: =DADOS!D13 -> 169/2024 | E13: =DADOS!E13 -> ADITAMENTO | F13: =DADOS!F13 -> 0
A16: PARCELA Nº | C16: 5
A17: DEMOSTRATICO DOS REPASSES PÚBLICOS RECEBIDOS
A18: ORIGEM DOS RECURSOS | C18: VALORES PREVISTOS - R$ | E18: DOC. DE CRÉDITO Nº | F18: DATA | G18: VALORES
G19: REPASSADOS -R$
A20: Municipal | D20: =DADOS!C25 -> 0
F24: RECEITA COM APLICAÇÕES FINANCEIRAS DOS REPASSES PÚBLICOS
F25: SALDO DE RECURSOS PÚBLICOS NÃO APLICADOS
F26: TOTAL | G26: =SUM(G20:G25) -> 0
F27: RECURSOS PROPRIOS APLICADOS PELA ENTIDADE
A28: Os signatários, na qualidade de representantes da Associação Beneficente Residencial Evangélico Benaiah, vem indicar,
A29: na forma abaixo detalhada, a aplicação dos recursos recebidos no exercício supramencionado, na importância total de
A30: =SUM(G20:G23) -> 0 | B30: (oitenta mil, oitocentos e sessenta reais), acrescidos do saldo de recursos não aplicados
C31: no valor de R$ | D31: =G25 -> 0 | E31: ( reais)
A32: DEMONSTRATIVO DAS DESPESAS REALIZADAS
A33: CATEGORIA OU FINALIDADE | D33: PERIODO DE | F33: ORIGEM DO | G33: VALORES
A34: DAS DESPESAS | D34: REALIZAÇÃO | F34: RECURSO | G34: APLICADOS
A35: RECURSOS HUMANOS | D35: =DADOS!B$25 -> maio | F35: Municipal | G35: =G104 -> 0
A36: MANUTENÇÃO - Utilidades públicas | D36: =DADOS!B$25 -> maio | F36: Municipal | G36: =G112 -> 0
A37: MANUTENÇÃO - Gêneros alimentícios | D37: =DADOS!B$25 -> maio | F37: Municipal | G37: =G125 -> 0
A38: MANUTENÇÃO - Mateirais de consumo | D38: =DADOS!B$25 -> maio | F38: Municipal | G38: =G137 -> 0
A39: MANUTENÇÃO - Combustível | D39: =DADOS!B$25 -> maio | F39: Municipal | G39: =G143 -> 0
A40: MANUTENÇÃO - Outras despesas | D40: =DADOS!B$25 -> maio | F40: Municipal | G40: =G152 -> 0
A41: TOTAL DAS DESPESAS | G41: =SUM(G35:G40) -> 0
A42: RECURSO PÚBLICO NÃO APLICADO | G42: =SUM(G20:G23)-G41 -> 0
A43: VALOR DEVOLVIDO AO ORGÃO CONCESSOR
A44: VALOR AUTORIZADO PARA APLICAÇÃO NO EXERCICIO SEGUINTE | G44: =G26-G41-G43 -> 0
A45: Declaramos, na qualidade de responsáveis pela Entidade supra epigrafada, sob as penalidades da Lei, que as despesas relacionadas, examinadas pelo Conselho Fiscal, comprovam a exata aplicação dos recursos recebidos para os fins indicados através da conta corrente 003/00004492-7, agência 0278, para finalidade específica, conforme programa de trabalho aprovado, proposto ao Órgão Concessor.
B47: Americana, | C47: 02 de junho de 2021.
A53: Membros do Conselho Fiscal
B57: =A4 -> DEMONSTRATIVO INTEGRAL DAS RECEITAS E DESPESAS
D58: =D5 -> EXERCÍCIO: | E58: =E5 -> 2025
A60: =A8 -> CONTRATANTE | D60: =D8 -> Prefeitura Municipal de Americana
...

Sheet Parcela 6
A4: DEMONSTRATIVO INTEGRAL DAS RECEITAS E DESPESAS
D5: =DADOS!A5 -> EXERCÍCIO: | E5: =DADOS!C5 -> 2025
A8: =DADOS!A$8 -> CONTRATANTE | D8: =DADOS!D$8 -> Prefeitura Municipal de Americana
A9: =DADOS!A$9 -> CONTRATADA | D9: =DADOS!D$9 -> Associação Beneficente Residencial Evangélico Benaiah
A10: =DADOS!A$14 -> CNPJ: | D10: =DADOS!B$14 -> 43.266.758/0001-89
A11: =DADOS!A$10 -> ENDEREÇO | D11: =DADOS!D$10 -> Rua Benaiah, 290 - Terramérica - Americana/SP – CEP 13.468-824
A12: =DADOS!A$11 -> RESPONSAVEL PELA ORGANIZAÇÃO | D12: =DADOS!D$11 -> HELIO DE OLIVEIRA CAMARGO
A13: =DADOS!A$13 -> TERMO DE COLABORAÇÃO | D13: =DADOS!D13 -> 169/2024 | E13: =DADOS!E13 -> ADITAMENTO | F13: =DADOS!F13 -> 0
A16: PARCELA Nº | C16: 6
A17: DEMOSTRATICO DOS REPASSES PÚBLICOS RECEBIDOS
A18: ORIGEM DOS RECURSOS | C18: VALORES PREVISTOS - R$ | E18: DOC. DE CRÉDITO Nº | F18: DATA | G18: VALORES
G19: REPASSADOS -R$
A20: Municipal | D20: =DADOS!C26 -> 0
F24: RECEITA COM APLICAÇÕES FINANCEIRAS DOS REPASSES PÚBLICOS
F25: SALDO DE RECURSOS PÚBLICOS NÃO APLICADOS
F26: TOTAL | G26: =SUM(G20:G25) -> 0
F27: RECURSOS PROPRIOS APLICADOS PELA ENTIDADE
A28: Os signatários, na qualidade de representantes da Associação Beneficente Residencial Evangélico Benaiah, vem indicar,
A29: na forma abaixo detalhada, a aplicação dos recursos recebidos no exercício supramencionado, na importância total de
A30: =SUM(G20:G23) -> 0 | B30: (oitenta mil, oitocentos e sessenta reais), acrescidos do saldo de recursos não aplicados
C31: no valor de R$ | D31: =G25 -> 0 | E31: ( reais)
A32: DEMONSTRATIVO DAS DESPESAS REALIZADAS
A33: CATEGORIA OU FINALIDADE | D33: PERIODO DE | F33: ORIGEM DO | G33: VALORES
A34: DAS DESPESAS | D34: REALIZAÇÃO | F34: RECURSO | G34: APLICADOS
A35: RECURSOS HUMANOS | D35: =DADOS!B$26 -> junho | F35: Municipal | G35: =G104 -> 0
A36: MANUTENÇÃO - Utilidades públicas | D36: =DADOS!B$26 -> junho | F36: Municipal | G36: =G112 -> 0
A37: MANUTENÇÃO - Gêneros alimentícios | D37: =DADOS!B$26 -> junho | F37: Municipal | G37: =G125 -> 0
A38: MANUTENÇÃO - Mateirais de consumo | D38: =DADOS!B$26 -> junho | F38: Municipal | G38: =G137 -> 0
A39: MANUTENÇÃO - Combustível | D39: =DADOS!B$26 -> junho | F39: Municipal | G39: =G143 -> 0
A40: MANUTENÇÃO - Outras despesas | D40: =DADOS!B$26 -> junho | F40: Municipal | G40: =G152 -> 0
A41: TOTAL DAS DESPESAS | G41: =SUM(G35:G40) -> 0
A42: RECURSO PÚBLICO NÃO APLICADO | G42: =SUM(G20:G23)-G41 -> 0
A43: VALOR DEVOLVIDO AO ORGÃO CONCESSOR
A44: VALOR AUTORIZADO PARA APLICAÇÃO NO EXERCICIO SEGUINTE | G44: =G26-G41-G43 -> 0
A45: Declaramos, na qualidade de responsáveis pela Entidade supra epigrafada, sob as penalidades da Lei, que as despesas relacionadas, examinadas pelo Conselho Fiscal, comprovam a exata aplicação dos recursos recebidos para os fins indicados através da conta corrente 003/00004492-7, agência 0278, para finalidade específica, conforme programa de trabalho aprovado, proposto ao Órgão Concessor.
B47: Americana, | C47: 02 de julho de 2021.
A53: Membros do Conselho Fiscal
B57: =A4 -> DEMONSTRATIVO INTEGRAL DAS RECEITAS E DESPESAS
D58: =D5 -> EXERCÍCIO: | E58: =E5 -> 2025
A60: =A8 -> CONTRATANTE | D60: =D8 -> Prefeitura Municipal de Americana
...

Sheet Parcela 7
A4: DEMONSTRATIVO INTEGRAL DAS RECEITAS E DESPESAS
D5: =DADOS!A5 -> EXERCÍCIO: | E5: =DADOS!C5 -> 2025
A8: =DADOS!A$8 -> CONTRATANTE | D8: =DADOS!D$8 -> Prefeitura Municipal de Americana
A9: =DADOS!A$9 -> CONTRATADA | D9: =DADOS!D$9 -> Associação Beneficente Residencial Evangélico Benaiah
A10: =DADOS!A$14 -> CNPJ: | D10: =DADOS!B$14 -> 43.266.758/0001-89
A11: =DADOS!A$10 -> ENDEREÇO | D11: =DADOS!D$10 -> Rua Benaiah, 290 - Terramérica - Americana/SP – CEP 13.468-824
A12: =DADOS!A$11 -> RESPONSAVEL PELA ORGANIZAÇÃO | D12: =DADOS!D$11 -> HELIO DE OLIVEIRA CAMARGO
A13: =DADOS!A$13 -> TERMO DE COLABORAÇÃO | D13: =DADOS!D13 -> 169/2024 | E13: =DADOS!E13 -> ADITAMENTO | F13: =DADOS!F13 -> 0
A16: PARCELA Nº | C16: 7
A17: DEMOSTRATICO DOS REPASSES PÚBLICOS RECEBIDOS
A18: ORIGEM DOS RECURSOS | C18: VALORES PREVISTOS - R$ | E18: DOC. DE CRÉDITO Nº | F18: DATA | G18: VALORES
G19: REPASSADOS -R$
A20: Municipal | D20: =DADOS!C27 -> 0
F24: RECEITA COM APLICAÇÕES FINANCEIRAS DOS REPASSES PÚBLICOS
F25: SALDO DE RECURSOS PÚBLICOS NÃO APLICADOS
F26: TOTAL | G26: =SUM(G20:G25) -> 0
F27: RECURSOS PROPRIOS APLICADOS PELA ENTIDADE
A28: Os signatários, na qualidade de representantes da Associação Beneficente Residencial Evangélico Benaiah, vem indicar,
A29: na forma abaixo detalhada, a aplicação dos recursos recebidos no exercício supramencionado, na importância total de
A30: =SUM(G20:G23) -> 0 | B30: (oitenta mil, oitocentos e sessenta reais), acrescidos do saldo de recursos não aplicados
C31: no valor de R$ | D31: =G25 -> 0 | E31: ( reais)
A32: DEMONSTRATIVO DAS DESPESAS REALIZADAS
A33: CATEGORIA OU FINALIDADE | D33: PERIODO DE | F33: ORIGEM DO | G33: VALORES
A34: DAS DESPESAS | D34: REALIZAÇÃO | F34: RECURSO | G34: APLICADOS
A35: RECURSOS HUMANOS | D35: =DADOS!B$27 -> julho | F35: Municipal | G35: =G104 -> 0
A36: MANUTENÇÃO - Utilidades públicas | D36: =DADOS!B$27 -> julho | F36: Municipal | G36: =G112 -> 0
A37: MANUTENÇÃO - Gêneros alimentícios | D37: =DADOS!B$27 -> julho | F37: Municipal | G37: =G125 -> 0
A38: MANUTENÇÃO - Mateirais de consumo | D38: =DADOS!B$27 -> julho | F38: Municipal | G38: =G137 -> 0
A39: MANUTENÇÃO - Combustível | D39: =DADOS!B$27 -> julho | F39: Municipal | G39: =G143 -> 0
A40: MANUTENÇÃO - Outras despesas | D40: =DADOS!B$27 -> julho | F40: Municipal | G40: =G152 -> 0
A41: TOTAL DAS DESPESAS | G41: =SUM(G35:G40) -> 0
A42: RECURSO PÚBLICO NÃO APLICADO | G42: =SUM(G20:G23)-G41 -> 0
A43: VALOR DEVOLVIDO AO ORGÃO CONCESSOR
A44: VALOR AUTORIZADO PARA APLICAÇÃO NO EXERCICIO SEGUINTE | G44: =G26-G41-G43 -> 0
A45: Declaramos, na qualidade de responsáveis pela Entidade supra epigrafada, sob as penalidades da Lei, que as despesas relacionadas, examinadas pelo Conselho Fiscal, comprovam a exata aplicação dos recursos recebidos para os fins indicados através da conta corrente 003/00004492-7, agência 0278, para finalidade específica, conforme programa de trabalho aprovado, proposto ao Órgão Concessor.
B47: Americana, | C47: 12 de agosto de 2021.
A53: Membros do Conselho Fiscal
B57: =A4 -> DEMONSTRATIVO INTEGRAL DAS RECEITAS E DESPESAS
D58: =D5 -> EXERCÍCIO: | E58: =E5 -> 2025
A60: =A8 -> CONTRATANTE | D60: =D8 -> Prefeitura Municipal de Americana
...

Sheet Parcela 8
A4: DEMONSTRATIVO INTEGRAL DAS RECEITAS E DESPESAS
D5: =DADOS!A5 -> EXERCÍCIO: | E5: =DADOS!C5 -> 2025
A8: =DADOS!A$8 -> CONTRATANTE | D8: =DADOS!D$8 -> Prefeitura Municipal de Americana
A9: =DADOS!A$9 -> CONTRATADA | D9: =DADOS!D$9 -> Associação Beneficente Residencial Evangélico Benaiah
A10: =DADOS!A$14 -> CNPJ: | D10: =DADOS!B$14 -> 43.266.758/0001-89
A11: =DADOS!A$10 -> ENDEREÇO | D11: =DADOS!D$10 -> Rua Benaiah, 290 - Terramérica - Americana/SP – CEP 13.468-824
A12: =DADOS!A$11 -> RESPONSAVEL PELA ORGANIZAÇÃO | D12: =DADOS!D$11 -> HELIO DE OLIVEIRA CAMARGO
A13: =DADOS!A$13 -> TERMO DE COLABORAÇÃO | D13: =DADOS!D13 -> 169/2024 | E13: =DADOS!E13 -> ADITAMENTO | F13: =DADOS!F13 -> 0
A16: PARCELA Nº | C16: 8
A17: DEMOSTRATICO DOS REPASSES PÚBLICOS RECEBIDOS
A18: ORIGEM DOS RECURSOS | C18: VALORES PREVISTOS - R$ | E18: DOC. DE CRÉDITO Nº | F18: DATA | G18: VALORES
G19: REPASSADOS -R$
A20: Municipal | D20: =DADOS!C28 -> 0
F24: RECEITA COM APLICAÇÕES FINANCEIRAS DOS REPASSES PÚBLICOS
F25: SALDO DE RECURSOS PÚBLICOS NÃO APLICADOS
F26: TOTAL | G26: =SUM(G20:G25) -> 0
F27: RECURSOS PROPRIOS APLICADOS PELA ENTIDADE
A28: Os signatários, na qualidade de representantes da Associação Beneficente Residencial Evangélico Benaiah, vem indicar,
A29: na forma abaixo detalhada, a aplicação dos recursos recebidos no exercício supramencionado, na importância total de
A30: =SUM(G20:G23) -> 0 | B30: (oitenta mil, oitocentos e sessenta reais), acrescidos do saldo de recursos não aplicados
C31: no valor de R$ | D31: =G25 -> 0 | E31: ( reais)
A32: DEMONSTRATIVO DAS DESPESAS REALIZADAS
A33: CATEGORIA OU FINALIDADE | D33: PERIODO DE | F33: ORIGEM DO | G33: VALORES
A34: DAS DESPESAS | D34: REALIZAÇÃO | F34: RECURSO | G34: APLICADOS
A35: RECURSOS HUMANOS | D35: =DADOS!B$28 -> agosto | F35: Municipal | G35: =G104 -> 0
A36: MANUTENÇÃO - Utilidades públicas | D36: =DADOS!B$28 -> agosto | F36: Municipal | G36: =G112 -> 0
A37: MANUTENÇÃO - Gêneros alimentícios | D37: =DADOS!B$28 -> agosto | F37: Municipal | G37: =G125 -> 0
A38: MANUTENÇÃO - Mateirais de consumo | D38: =DADOS!B$28 -> agosto | F38: Municipal | G38: =G137 -> 0
A39: MANUTENÇÃO - Combustível | D39: =DADOS!B$28 -> agosto | F39: Municipal | G39: =G143 -> 0
A40: MANUTENÇÃO - Outras despesas | D40: =DADOS!B$28 -> agosto | F40: Municipal | G40: =G152 -> 0
A41: TOTAL DAS DESPESAS | G41: =SUM(G35:G40) -> 0
A42: RECURSO PÚBLICO NÃO APLICADO | G42: =SUM(G20:G23)-G41 -> 0
A43: VALOR DEVOLVIDO AO ORGÃO CONCESSOR
A44: VALOR AUTORIZADO PARA APLICAÇÃO NO EXERCICIO SEGUINTE | G44: =G26-G41-G43 -> 0
A45: Declaramos, na qualidade de responsáveis pela Entidade supra epigrafada, sob as penalidades da Lei, que as despesas relacionadas, examinadas pelo Conselho Fiscal, comprovam a exata aplicação dos recursos recebidos para os fins indicados através da conta corrente 003/00004492-7, agência 0278, para finalidade específica, conforme programa de trabalho aprovado, proposto ao Órgão Concessor.
B47: Americana, | C47: 06/09/2021.
A53: Membros do Conselho Fiscal
B57: =A4 -> DEMONSTRATIVO INTEGRAL DAS RECEITAS E DESPESAS
D58: =D5 -> EXERCÍCIO: | E58: =E5 -> 2025
A60: =A8 -> CONTRATANTE | D60: =D8 -> Prefeitura Municipal de Americana
...

Sheet Parcela 9
A4: DEMONSTRATIVO INTEGRAL DAS RECEITAS E DESPESAS
D5: =DADOS!A5 -> EXERCÍCIO: | E5: =DADOS!C5 -> 2025
A8: =DADOS!A$8 -> CONTRATANTE | D8: =DADOS!D$8 -> Prefeitura Municipal de Americana
A9: =DADOS!A$9 -> CONTRATADA | D9: =DADOS!D$9 -> Associação Beneficente Residencial Evangélico Benaiah
A10: =DADOS!A$14 -> CNPJ: | D10: =DADOS!B$14 -> 43.266.758/0001-89
A11: =DADOS!A$10 -> ENDEREÇO | D11: =DADOS!D$10 -> Rua Benaiah, 290 - Terramérica - Americana/SP – CEP 13.468-824
A12: =DADOS!A$11 -> RESPONSAVEL PELA ORGANIZAÇÃO | D12: =DADOS!D$11 -> HELIO DE OLIVEIRA CAMARGO
A13: =DADOS!A$13 -> TERMO DE COLABORAÇÃO | D13: =DADOS!D13 -> 169/2024 | E13: =DADOS!E13 -> ADITAMENTO | F13: =DADOS!F13 -> 0
A16: PARCELA Nº | C16: 9
A17: DEMOSTRATICO DOS REPASSES PÚBLICOS RECEBIDOS
A18: ORIGEM DOS RECURSOS | C18: VALORES PREVISTOS - R$ | E18: DOC. DE CRÉDITO Nº | F18: DATA | G18: VALORES
G19: REPASSADOS -R$
A20: Municipal | D20: =DADOS!C29 -> 0
F24: RECEITA COM APLICAÇÕES FINANCEIRAS DOS REPASSES PÚBLICOS
F25: SALDO DE RECURSOS PÚBLICOS NÃO APLICADOS
F26: TOTAL | G26: =SUM(G20:G25) -> 0
F27: RECURSOS PROPRIOS APLICADOS PELA ENTIDADE
A28: Os signatários, na qualidade de representantes da Associação Beneficente Residencial Evangélico Benaiah, vem indicar,
A29: na forma abaixo detalhada, a aplicação dos recursos recebidos no exercício supramencionado, na importância total de
A30: =SUM(G20:G23) -> 0 | B30: (oitenta mil, oitocentos e sessenta reais), acrescidos do saldo de recursos não aplicados
C31: no valor de R$ | D31: =G25 -> 0 | E31: ( reais)
A32: DEMONSTRATIVO DAS DESPESAS REALIZADAS
A33: CATEGORIA OU FINALIDADE | D33: PERIODO DE | F33: ORIGEM DO | G33: VALORES
A34: DAS DESPESAS | D34: REALIZAÇÃO | F34: RECURSO | G34: APLICADOS
A35: RECURSOS HUMANOS | D35: =DADOS!B$29 -> setembro | F35: Municipal | G35: =G104 -> 0
A36: MANUTENÇÃO - Utilidades públicas | D36: =DADOS!B$29 -> setembro | F36: Municipal | G36: =G112 -> 0
A37: MANUTENÇÃO - Gêneros alimentícios | D37: =DADOS!B$29 -> setembro | F37: Municipal | G37: =G125 -> 0
A38: MANUTENÇÃO - Mateirais de consumo | D38: =DADOS!B$29 -> setembro | F38: Municipal | G38: =G137 -> 0
A39: MANUTENÇÃO - Combustível | D39: =DADOS!B$29 -> setembro | F39: Municipal | G39: =G143 -> 0
A40: MANUTENÇÃO - Outras despesas | D40: =DADOS!B$29 -> setembro | F40: Municipal | G40: =G152 -> 0
A41: TOTAL DAS DESPESAS | G41: =SUM(G35:G40) -> 0
A42: RECURSO PÚBLICO NÃO APLICADO | G42: =SUM(G20:G23)-G41 -> 0
A43: VALOR DEVOLVIDO AO ORGÃO CONCESSOR
A44: VALOR AUTORIZADO PARA APLICAÇÃO NO EXERCICIO SEGUINTE | G44: =G26-G41-G43 -> 0
A45: Declaramos, na qualidade de responsáveis pela Entidade supra epigrafada, sob as penalidades da Lei, que as despesas relacionadas, examinadas pelo Conselho Fiscal, comprovam a exata aplicação dos recursos recebidos para os fins indicados através da conta corrente 003/00004492-7, agência 0278, para finalidade específica, conforme programa de trabalho aprovado, proposto ao Órgão Concessor.
B47: Americana, | C47: 05 de outubro de 2021.
A53: Membros do Conselho Fiscal
B57: =A4 -> DEMONSTRATIVO INTEGRAL DAS RECEITAS E DESPESAS
D58: =D5 -> EXERCÍCIO: | E58: =E5 -> 2025
A60: =A8 -> CONTRATANTE | D60: =D8 -> Prefeitura Municipal de Americana
...

Sheet 0
A4: DEMONSTRATIVO INTEGRAL DAS RECEITAS E DESPESAS
D5: =DADOS!A5 -> EXERCÍCIO: | E5: =DADOS!C5 -> 2025
A8: =DADOS!A$8 -> CONTRATANTE | D8: =DADOS!D$8 -> Prefeitura Municipal de Americana
A9: =DADOS!A$9 -> CONTRATADA | D9: =DADOS!D$9 -> Associação Beneficente Residencial Evangélico Benaiah
A10: =DADOS!A$14 -> CNPJ: | D10: =DADOS!B$14 -> 43.266.758/0001-89
A11: =DADOS!A$10 -> ENDEREÇO | D11: =DADOS!D$10 -> Rua Benaiah, 290 - Terramérica - Americana/SP – CEP 13.468-824
A12: =DADOS!A$11 -> RESPONSAVEL PELA ORGANIZAÇÃO | D12: =DADOS!D$11 -> HELIO DE OLIVEIRA CAMARGO
A13: =DADOS!A$13 -> TERMO DE COLABORAÇÃO | D13: =DADOS!D13 -> 169/2024 | E13: =DADOS!E13 -> ADITAMENTO | F13: =DADOS!F13 -> 0
A16: PARCELA Nº | C16: 10
A17: DEMOSTRATICO DOS REPASSES PÚBLICOS RECEBIDOS
A18: ORIGEM DOS RECURSOS | C18: VALORES PREVISTOS - R$ | E18: DOC. DE CRÉDITO Nº | F18: DATA | G18: VALORES
G19: REPASSADOS -R$
A20: Municipal | D20: =DADOS!C30 -> 0
F24: RECEITA COM APLICAÇÕES FINANCEIRAS DOS REPASSES PÚBLICOS
F25: SALDO DE RECURSOS PÚBLICOS NÃO APLICADOS
F26: TOTAL | G26: =SUM(G20:G25) -> 0
F27: RECURSOS PROPRIOS APLICADOS PELA ENTIDADE
A28: Os signatários, na qualidade de representantes da Associação Beneficente Residencial Evangélico Benaiah, vem indicar,
A29: na forma abaixo detalhada, a aplicação dos recursos recebidos no exercício supramencionado, na importância total de
A30: =SUM(G20:G23) -> 0 | B30: (oitenta mil, oitocentos e sessenta reais), acrescidos do saldo de recursos não aplicados
C31: no valor de R$ | D31: =G25 -> 0 | E31: ( reais)
A32: DEMONSTRATIVO DAS DESPESAS REALIZADAS
A33: CATEGORIA OU FINALIDADE | D33: PERIODO DE | F33: ORIGEM DO | G33: VALORES
A34: DAS DESPESAS | D34: REALIZAÇÃO | F34: RECURSO | G34: APLICADOS
A35: RECURSOS HUMANOS | D35: =DADOS!B$30 -> outubro | F35: Municipal | G35: =G104 -> 0
A36: MANUTENÇÃO - Utilidades públicas | D36: =DADOS!B$30 -> outubro | F36: Municipal | G36: =G112 -> 0
A37: MANUTENÇÃO - Gêneros alimentícios | D37: =DADOS!B$30 -> outubro | F37: Municipal | G37: =G125 -> 0
A38: MANUTENÇÃO - Mateirais de consumo | D38: =DADOS!B$30 -> outubro | F38: Municipal | G38: =G137 -> 0
A39: MANUTENÇÃO - Combustível | D39: =DADOS!B$30 -> outubro | F39: Municipal | G39: =G143 -> 0
A40: MANUTENÇÃO - Outras despesas | D40: =DADOS!B$30 -> outubro | F40: Municipal | G40: =G152 -> 0
A41: TOTAL DAS DESPESAS | G41: =SUM(G35:G40) -> 0
A42: RECURSO PÚBLICO NÃO APLICADO | G42: =SUM(G20:G23)-G41 -> 0
A43: VALOR DEVOLVIDO AO ORGÃO CONCESSOR
A44: VALOR AUTORIZADO PARA APLICAÇÃO NO EXERCICIO SEGUINTE | G44: =G26-G41-G43 -> 0
A45: Declaramos, na qualidade de responsáveis pela Entidade supra epigrafada, sob as penalidades da Lei, que as despesas relacionadas, examinadas pelo Conselho Fiscal, comprovam a exata aplicação dos recursos recebidos para os fins indicados através da conta corrente 003/00004492-7, agência 0278, para finalidade específica, conforme programa de trabalho aprovado, proposto ao Órgão Concessor.
B47: Americana, | C47: 04 de novembro de 2021.
A53: Membros do Conselho Fiscal
B57: =A4 -> DEMONSTRATIVO INTEGRAL DAS RECEITAS E DESPESAS
D58: =D5 -> EXERCÍCIO: | E58: =E5 -> 2025
A60: =A8 -> CONTRATANTE | D60: =D8 -> Prefeitura Municipal de Americana
...

Sheet 00
A4: DEMONSTRATIVO INTEGRAL DAS RECEITAS E DESPESAS
D5: =DADOS!A5 -> EXERCÍCIO: | E5: =DADOS!C5 -> 2025
A8: =DADOS!A$8 -> CONTRATANTE | D8: =DADOS!D$8 -> Prefeitura Municipal de Americana
A9: =DADOS!A$9 -> CONTRATADA | D9: =DADOS!D$9 -> Associação Beneficente Residencial Evangélico Benaiah
A10: =DADOS!A$14 -> CNPJ: | D10: =DADOS!B$14 -> 43.266.758/0001-89
A11: =DADOS!A$10 -> ENDEREÇO | D11: =DADOS!D$10 -> Rua Benaiah, 290 - Terramérica - Americana/SP – CEP 13.468-824
A12: =DADOS!A$11 -> RESPONSAVEL PELA ORGANIZAÇÃO | D12: =DADOS!D$11 -> HELIO DE OLIVEIRA CAMARGO
A13: =DADOS!A$13 -> TERMO DE COLABORAÇÃO | D13: =DADOS!D13 -> 169/2024 | E13: =DADOS!E13 -> ADITAMENTO | F13: =DADOS!F13 -> 0
A16: PARCELA Nº | C16: 11
A17: DEMOSTRATICO DOS REPASSES PÚBLICOS RECEBIDOS
A18: ORIGEM DOS RECURSOS | C18: VALORES PREVISTOS - R$ | E18: DOC. DE CRÉDITO Nº | F18: DATA | G18: VALORES
G19: REPASSADOS -R$
A20: Municipal | D20: =DADOS!C31 -> 0
F24: RECEITA COM APLICAÇÕES FINANCEIRAS DOS REPASSES PÚBLICOS
F25: SALDO DE RECURSOS PÚBLICOS NÃO APLICADOS
F26: TOTAL | G26: =SUM(G20:G25) -> 0
F27: RECURSOS PROPRIOS APLICADOS PELA ENTIDADE
A28: Os signatários, na qualidade de representantes da Associação Beneficente Residencial Evangélico Benaiah, vem indicar,
A29: na forma abaixo detalhada, a aplicação dos recursos recebidos no exercício supramencionado, na importância total de
A30: =SUM(G20:G23) -> 0 | B30: (oitenta mil, oitocentos e sessenta reais), acrescidos do saldo de recursos não aplicados
C31: no valor de R$ | D31: =G25 -> 0 | E31: ( reais)
A32: DEMONSTRATIVO DAS DESPESAS REALIZADAS
A33: CATEGORIA OU FINALIDADE | D33: PERIODO DE | F33: ORIGEM DO | G33: VALORES
A34: DAS DESPESAS | D34: REALIZAÇÃO | F34: RECURSO | G34: APLICADOS
A35: RECURSOS HUMANOS | D35: =DADOS!B$31 -> novembro | F35: Municipal | G35: =G104 -> 0
A36: MANUTENÇÃO - Utilidades públicas | D36: =DADOS!B$31 -> novembro | F36: Municipal | G36: =G112 -> 0
A37: MANUTENÇÃO - Gêneros alimentícios | D37: =DADOS!B$31 -> novembro | F37: Municipal | G37: =G125 -> 0
A38: MANUTENÇÃO - Mateirais de consumo | D38: =DADOS!B$31 -> novembro | F38: Municipal | G38: =G137 -> 0
A39: MANUTENÇÃO - Combustível | D39: =DADOS!B$31 -> novembro | F39: Municipal | G39: =G143 -> 0
A40: MANUTENÇÃO - Outras despesas | D40: =DADOS!B$31 -> novembro | F40: Municipal | G40: =G152 -> 0
A41: TOTAL DAS DESPESAS | G41: =SUM(G35:G40) -> 0
A42: RECURSO PÚBLICO NÃO APLICADO | G42: =SUM(G20:G23)-G41 -> 0
A43: VALOR DEVOLVIDO AO ORGÃO CONCESSOR
A44: VALOR AUTORIZADO PARA APLICAÇÃO NO EXERCICIO SEGUINTE | G44: =G26-G41-G43 -> 0
A45: Declaramos, na qualidade de responsáveis pela Entidade supra epigrafada, sob as penalidades da Lei, que as despesas relacionadas, examinadas pelo Conselho Fiscal, comprovam a exata aplicação dos recursos recebidos para os fins indicados através da conta corrente 003/00004492-7, agência 0278, para finalidade específica, conforme programa de trabalho aprovado, proposto ao Órgão Concessor.
B47: Americana, | C47: 03 de novembro de 2021.
A53: Membros do Conselho Fiscal
B57: =A4 -> DEMONSTRATIVO INTEGRAL DAS RECEITAS E DESPESAS
D58: =D5 -> EXERCÍCIO: | E58: =E5 -> 2025
A60: =A8 -> CONTRATANTE | D60: =D8 -> Prefeitura Municipal de Americana
...

Sheet 000
A4: DEMONSTRATIVO INTEGRAL DAS RECEITAS E DESPESAS
D5: =DADOS!A5 -> EXERCÍCIO: | E5: =DADOS!C5 -> 2025
A8: =DADOS!A$8 -> CONTRATANTE | D8: =DADOS!D$8 -> Prefeitura Municipal de Americana
A9: =DADOS!A$9 -> CONTRATADA | D9: =DADOS!D$9 -> Associação Beneficente Residencial Evangélico Benaiah
A10: =DADOS!A$14 -> CNPJ: | D10: =DADOS!B$14 -> 43.266.758/0001-89
A11: =DADOS!A$10 -> ENDEREÇO | D11: =DADOS!D$10 -> Rua Benaiah, 290 - Terramérica - Americana/SP – CEP 13.468-824
A12: =DADOS!A$11 -> RESPONSAVEL PELA ORGANIZAÇÃO | D12: =DADOS!D$11 -> HELIO DE OLIVEIRA CAMARGO
A13: =DADOS!A$13 -> TERMO DE COLABORAÇÃO | D13: =DADOS!D13 -> 169/2024 | E13: =DADOS!E13 -> ADITAMENTO | F13: =DADOS!F13 -> 0
A16: PARCELA Nº | C16: 12
A17: DEMOSTRATICO DOS REPASSES PÚBLICOS RECEBIDOS
A18: ORIGEM DOS RECURSOS | C18: VALORES PREVISTOS - R$ | E18: DOC. DE CRÉDITO Nº | F18: DATA | G18: VALORES
G19: REPASSADOS -R$
A20: Municipal | D20: =DADOS!C32 -> 0
F24: RECEITA COM APLICAÇÕES FINANCEIRAS DOS REPASSES PÚBLICOS
F25: SALDO DE RECURSOS PÚBLICOS NÃO APLICADOS
F26: TOTAL | G26: =SUM(G20:G25) -> 0
F27: RECURSOS PROPRIOS APLICADOS PELA ENTIDADE
A28: Os signatários, na qualidade de representantes da Associação Beneficente Residencial Evangélico Benaiah, vem indicar,
A29: na forma abaixo detalhada, a aplicação dos recursos recebidos no exercício supramencionado, na importância total de
A30: =SUM(G20:G23) -> 0 | B30: (oitenta mil, novecentos e cinquenta e seis reais e onze centavos), acrescidos do saldo de recursos não aplicados
C31: no valor de R$ | D31: =G25 -> 0 | E31: ( reais)
A32: DEMONSTRATIVO DAS DESPESAS REALIZADAS
A33: CATEGORIA OU FINALIDADE | D33: PERIODO DE | F33: ORIGEM DO | G33: VALORES
A34: DAS DESPESAS | D34: REALIZAÇÃO | F34: RECURSO | G34: APLICADOS
A35: RECURSOS HUMANOS | D35: =DADOS!B$32 -> dezembro | F35: Municipal | G35: =G104 -> 0
A36: MANUTENÇÃO - Utilidades públicas | D36: =DADOS!B$32 -> dezembro | F36: Municipal | G36: =G112 -> 0
A37: MANUTENÇÃO - Gêneros alimentícios | D37: =DADOS!B$32 -> dezembro | F37: Municipal | G37: =G125 -> 0
A38: MANUTENÇÃO - Mateirais de consumo | D38: =DADOS!B$32 -> dezembro | F38: Municipal | G38: =G137 -> 0
A39: MANUTENÇÃO - Combustível | D39: =DADOS!B$32 -> dezembro | F39: Municipal | G39: =G143 -> 0
A40: MANUTENÇÃO - Outras despesas | D40: =DADOS!B$32 -> dezembro | F40: Municipal | G40: =G152 -> 0
A41: TOTAL DAS DESPESAS | G41: =SUM(G35:G40) -> 0
A42: RECURSO PÚBLICO NÃO APLICADO | G42: =SUM(G20:G23)-G41 -> 0
A43: VALOR DEVOLVIDO AO ORGÃO CONCESSOR
A44: VALOR AUTORIZADO PARA APLICAÇÃO NO EXERCICIO SEGUINTE | G44: =G26-G41-G43 -> 0
A45: Declaramos, na qualidade de responsáveis pela Entidade supra epigrafada, sob as penalidades da Lei, que as despesas relacionadas, examinadas pelo Conselho Fiscal, comprovam a exata aplicação dos recursos recebidos para os fins indicados através da conta corrente 003/00004492-7, agência 0278, para finalidade específica, conforme programa de trabalho aprovado, proposto ao Órgão Concessor.
B47: Americana, | C47: 24 de janeiro de 2022.
A53: Membros do Conselho Fiscal
B57: =A4 -> DEMONSTRATIVO INTEGRAL DAS RECEITAS E DESPESAS
D58: =D5 -> EXERCÍCIO: | E58: =E5 -> 2025
A60: =A8 -> CONTRATANTE | D60: =D8 -> Prefeitura Municipal de Americana
...

Sheet GLOBAL
A4: DEMONSTRATIVO INTEGRAL DAS RECEITAS E DESPESAS
D5: =DADOS!A5 -> EXERCÍCIO: | E5: =DADOS!C5 -> 2025
A8: =DADOS!A$8 -> CONTRATANTE | D8: =DADOS!D$8 -> Prefeitura Municipal de Americana
A9: =DADOS!A$9 -> CONTRATADA | D9: =DADOS!D$9 -> Associação Beneficente Residencial Evangélico Benaiah
A10: =DADOS!A$14 -> CNPJ: | D10: =DADOS!B$14 -> 43.266.758/0001-89
A11: =DADOS!A$10 -> ENDEREÇO | D11: =DADOS!D$10 -> Rua Benaiah, 290 - Terramérica - Americana/SP – CEP 13.468-824
A12: =DADOS!A$11 -> RESPONSAVEL PELA ORGANIZAÇÃO | D12: =DADOS!D$11 -> HELIO DE OLIVEIRA CAMARGO
A13: =DADOS!A$13 -> TERMO DE COLABORAÇÃO | D13: =DADOS!D13 -> 169/2024 | E13: =DADOS!E13 -> ADITAMENTO | F13: =DADOS!F13 -> 0
A16: PARCELA Nº | C16: GLOBAL
A17: DEMOSTRATICO DOS REPASSES PÚBLICOS RECEBIDOS
A18: ORIGEM DOS RECURSOS | C18: VALORES PREVISTOS - R$ | E18: DOC. DE CRÉDITO Nº | F18: DATA | G18: VALORES
G19: REPASSADOS -R$
A20: ='Parcela 10'!A$20 -> Municipal | D20: =DADOS!C21 -> 116162 | E20: ='Parcela 10'!E$20 -> 000001 | F20: ='Parcela 10'!F$20 -> 45681 | G20: ='Parcela 10'!G$20 -> 116162
A21: ='Parcela 11'!A$20 -> Municipal | D21: =DADOS!C22 -> 116162 | E21: ='Parcela 11'!E$20 -> 000001 | F21: ='Parcela 11'!F$20 -> 45713 | G21: ='Parcela 11'!G$20 -> 116162
A22: ='Parcela 12'!A$20 -> Municipal | D22: =DADOS!C23 -> 57819.7 | E22: ='Parcela 12'!E$20 -> 000001 | F22: ='Parcela 12'!F$20 -> 45741 | G22: ='Parcela 12'!G$20 -> 57819.7
A23: ='Parcela 4'!A$20 -> Municipal | D23: =DADOS!C24 -> 0 | E23: ='Parcela 4'!E$20 -> 0 | F23: ='Parcela 4'!F$20 -> 0 | G23: ='Parcela 4'!G$20 -> 0
A24: ='Parcela 5'!A$20 -> Municipal | D24: =DADOS!C25 -> 0 | E24: ='Parcela 5'!E$20 -> 0 | F24: ='Parcela 5'!F$20 -> 0 | G24: ='Parcela 5'!G$20 -> 0
A25: ='Parcela 6'!A$20 -> Municipal | D25: =DADOS!C26 -> 0 | E25: ='Parcela 6'!E$20 -> 0 | F25: ='Parcela 6'!F$20 -> 0 | G25: ='Parcela 6'!G$20 -> 0
A26: ='Parcela 7'!A$20 -> Municipal | D26: =DADOS!C27 -> 0 | E26: ='Parcela 7'!E$20 -> 0 | F26: ='Parcela 7'!F$20 -> 0 | G26: ='Parcela 7'!G$20 -> 0
A27: ='Parcela 8'!A$20 -> Municipal | D27: =DADOS!C28 -> 0 | E27: ='Parcela 8'!E$20 -> 0 | F27: ='Parcela 8'!F$20 -> 0 | G27: ='Parcela 8'!G$20 -> 0
A28: ='Parcela 9'!A$20 -> Municipal | D28: =DADOS!C29 -> 0 | E28: ='Parcela 9'!E$20 -> 0 | F28: ='Parcela 9'!F$20 -> 0 | G28: ='Parcela 9'!G$20 -> 0
A29: ='0'!A$20 -> Municipal | D29: =DADOS!C30 -> 0 | E29: ='0'!E$20 -> 0 | F29: ='0'!F$20 -> 0 | G29: ='0'!G$20 -> 0
A30: ='00'!A$20 -> Municipal | D30: =DADOS!C31 -> 0 | E30: ='00'!E$20 -> 0 | F30: ='00'!F$20 -> 0 | G30: ='00'!G$20 -> 0
A31: ='000'!A$20 -> Municipal | D31: =DADOS!C32 -> 0 | E31: ='000'!E$20 -> 0 | F31: ='000'!F$20 -> 0 | G31: ='000'!G$20 -> 0
F32: RECEITA COM APLICAÇÕES FINANCEIRAS DOS REPASSES PÚBLICOS | G32: ='Parcela 10'!G24+'Parcela 11'!G24+'Parcela 12'!G24 -> 0
F33: SALDO DE RECURSOS PÚBLICOS NÃO APLICADOS
F34: TOTAL | G34: =SUM(G20:G33) -> 290143.7
F35: RECURSOS PROPRIOS APLICADOS PELA ENTIDADE
A36: Os signatários, na qualidade de representantes da Associação Beneficente Residencial Evangélico Benaiah, vem indicar,
A37: na forma abaixo detalhada, a aplicação dos recursos recebidos no exercício supramencionado, na importância total de
A38: =G34 -> 290143.7 | B38: (trezentos e vinte e nove mil, trezentos e três reais e oitenta e dois centavos).
A40: DEMONSTRATIVO DAS DESPESAS REALIZADAS
A41: CATEGORIA OU FINALIDADE | D41: PERIODO DE | F41: ORIGEM DO | G41: VALORES
A42: DAS DESPESAS | D42: REALIZAÇÃO | F42: RECURSO | G42: APLICADOS
A43: ='Parcela 10'!A35 -> RECURSOS HUMANOS | D43: Janeiro a março | F43: =A20 -> Municipal | G43: =G540 -> 290143.7
A44: ='Parcela 10'!A36 -> MANUTENÇÃO - Utilidades públicas | D44: Janeiro a dezembro | F44: =A21 -> Municipal
A45: ='Parcela 10'!A37 -> MANUTENÇÃO - Gêneros alimentícios | D45: Janeiro a dezembro | F45: =A22 -> Municipal
A46: ='Parcela 10'!A38 -> MANUTENÇÃO - Mateirais de consumo | D46: Janeiro a dezembro | F46: =A23 -> Municipal
A47: ='Parcela 10'!A39 -> MANUTENÇÃO - Combustível | D47: Janeiro a dezembro | F47: =A24 -> Municipal
A48: ='Parcela 10'!A40 -> MANUTENÇÃO - Outras despesas | D48: Janeiro a dezembro | F48: =A25 -> Municipal
...

Sheet Aporte
A4: DEMONSTRATIVO INTEGRAL DAS RECEITAS E DESPESAS
D5: =DADOS!A5 -> EXERCÍCIO: | E5: =DADOS!C5 -> 2025
A8: =DADOS!A$8 -> CONTRATANTE | D8: =DADOS!D$8 -> Prefeitura Municipal de Americana
A9: =DADOS!A$9 -> CONTRATADA | D9: =DADOS!D$9 -> Associação Beneficente Residencial Evangélico Benaiah
A10: =DADOS!A$14 -> CNPJ: | D10: =DADOS!B$14 -> 43.266.758/0001-89
A11: =DADOS!A$10 -> ENDEREÇO | D11: =DADOS!D$10 -> Rua Benaiah, 290 - Terramérica - Americana/SP – CEP 13.468-824
A12: =DADOS!A$11 -> RESPONSAVEL PELA ORGANIZAÇÃO | D12: =DADOS!D$11 -> HELIO DE OLIVEIRA CAMARGO
A13: =DADOS!A$13 -> TERMO DE COLABORAÇÃO | D13: =DADOS!D13 -> 169/2024 | E13: =DADOS!E13 -> ADITAMENTO | F13: =DADOS!F13 -> 0
A16: PARCELA Nº | C16: Aporte
A17: DEMOSTRATICO DOS REPASSES PÚBLICOS RECEBIDOS
A18: ORIGEM DOS RECURSOS | C18: VALORES PREVISTOS - R$ | E18: DOC. DE CRÉDITO Nº | F18: DATA | G18: VALORES
G19: REPASSADOS -R$
A20: Municipal | D20: 61259.59 | E20: 000001 | F20: 44545 | G20: 61259.59
F24: RECEITA COM APLICAÇÕES FINANCEIRAS DOS REPASSES PÚBLICOS
F25: SALDO DE RECURSOS PÚBLICOS NÃO APLICADOS
F26: TOTAL | G26: =SUM(G20:G25) -> 61259.59
F27: RECURSOS PROPRIOS APLICADOS PELA ENTIDADE
A28: Os signatários, na qualidade de representantes da Associação Beneficente Residencial Evangélico Benaiah, vem indicar,
A29: na forma abaixo detalhada, a aplicação dos recursos recebidos no exercício supramencionado, na importância total de
A30: =SUM(G20:G23) -> 61259.59 | B30: (sessenta e um mil, dunzentos e cinquenta e nove reais e e cinquenta e nove centavos), acrescidos do saldo
A31: de recursos não aplicados | C31: no valor de R$ | D31: =G25 -> 0 | E31: ( reais)
A32: DEMONSTRATIVO DAS DESPESAS REALIZADAS
A33: CATEGORIA OU FINALIDADE | D33: PERIODO DE | F33: ORIGEM DO | G33: VALORES
A34: DAS DESPESAS | D34: REALIZAÇÃO | F34: RECURSO | G34: APLICADOS
A35: RECURSOS HUMANOS | D35: =DADOS!B$32 -> dezembro | F35: Municipal | G35: =G104 -> 61259.59
A36: MANUTENÇÃO - Utilidades públicas | D36: =DADOS!B$32 -> dezembro | F36: Municipal | G36: =G112 -> 0
A37: MANUTENÇÃO - Gêneros alimentícios | D37: =DADOS!B$32 -> dezembro | F37: Municipal | G37: =G125 -> 0
A38: MANUTENÇÃO - Mateirais de consumo | D38: =DADOS!B$32 -> dezembro | F38: Municipal | G38: =G137 -> 0
A39: MANUTENÇÃO - Combustível | D39: =DADOS!B$32 -> dezembro | F39: Municipal | G39: =G143 -> 0
A40: MANUTENÇÃO - Outras despesas | D40: =DADOS!B$32 -> dezembro | F40: Municipal | G40: =G152 -> 0
A41: TOTAL DAS DESPESAS | G41: =SUM(G35:G40) -> 61259.59
A42: RECURSO PÚBLICO NÃO APLICADO | G42: =SUM(G20:G23)-G41 -> 0
A43: VALOR DEVOLVIDO AO ORGÃO CONCESSOR
A44: VALOR AUTORIZADO PARA APLICAÇÃO NO EXERCICIO SEGUINTE | G44: =G26-G41-G43 -> 0
A45: Declaramos, na qualidade de responsáveis pela Entidade supra epigrafada, sob as penalidades da Lei, que as despesas relacionadas, examinadas pelo Conselho Fiscal, comprovam a exata aplicação dos recursos recebidos para os fins indicados através da conta corrente 003/00004492-7, agência 0278, para finalidade específica, conforme programa de trabalho aprovado, proposto ao Órgão Concessor.
B47: Americana, | C47: 24 de janeiro de 2022.
A53: Membros do Conselho Fiscal
B57: =A4 -> DEMONSTRATIVO INTEGRAL DAS RECEITAS E DESPESAS
D58: =D5 -> EXERCÍCIO: | E58: =E5 -> 2025
A60: =A8 -> CONTRATANTE | D60: =D8 -> Prefeitura Municipal de Americana
...
