Workbook
Name OLE_LINK1: 'Parcela 1'!$C$108

Sheet DADOS
A5: EXERCÍCIO: | C5: 2025
A8: CONTRATANTE | D8: Prefeitura Municipal de Americana
A9: CONTRATADA | D9: Associação Beneficente Residencial Evangélico Benaiah
A10: ENDEREÇO | D10: Rua Benaiah, 290 - Terramérica - Americana/SP – CEP 13.468-824
A11: RESPONSAVEL PELA ORGANIZAÇÃO | D11: HELIO DE OLIVEIRA CAMARGO
A13: TERMO DE COLABORAÇÃO | D13: 148/2025 | E13: ADITAMENTO
A14: CNPJ: | B14: 43.266.758/0001-89
A18: PARCELA
A19: Valor das Parcelas | D19: RECURSOS HUMANOS | E19: UTILIDADES PÚBLICAS | F19: GENEROS ALIMENTICIOS | G19: MATERIAIS DE CONSUMO | H19: COMBUSTIVEL | I19: OUTRAS DESPESAS | J19: TOTAL MANUTENÇÃO | K19: TOTAL GERAL
C20: =18228*9 -> 164052 | D20: =C20 -> 164052 | E20: 0 | H20: 0 | I20: 0 | J20: =SUM(E20:I20) -> 0 | K20: =J20+D20 -> 164052
A21: 01 | B21: abril | C21: =ROUNDDOWN(C$20/9,2) -> 18228 | D21: =ROUNDDOWN(D$20/9,2) -> 18228 | E21: =ROUNDDOWN(E$20/12,2) -> 0 | F21: =ROUNDDOWN(F$20/12,2) -> 0 | G21: =ROUNDDOWN(G$20/12,2) -> 0 | H21: =ROUNDDOWN(H$20/12,2) -> 0 | I21: =ROUNDDOWN(I$20/12,2) -> 0 | J21: =SUM(E21:I21) -> 0 | K21: =J21+D21 -> 18228
A22: 02 | B22: maio | C22: =ROUNDDOWN(C$20/9,2) -> 18228 | D22: =ROUNDDOWN(D$20/9,2) -> 18228 | E22: =ROUNDDOWN(E$20/12,2) -> 0 | F22: =ROUNDDOWN(F$20/12,2) -> 0 | G22: =ROUNDDOWN(G$20/12,2) -> 0 | H22: =ROUNDDOWN(H$20/12,2) -> 0 | I22: =ROUNDDOWN(I$20/12,2) -> 0 | J22: =SUM(E22:I22) -> 0 | K22: =J22+D22 -> 18228
A23: 03 | B23: junho | C23: =ROUNDDOWN(C$20/9,2) -> 18228 | D23: =ROUNDDOWN(D$20/9,2) -> 18228 | E23: =ROUNDDOWN(E$20/12,2) -> 0 | F23: =ROUNDDOWN(F$20/12,2) -> 0 | G23: =ROUNDDOWN(G$20/12,2) -> 0 | H23: =ROUNDDOWN(H$20/12,2) -> 0 | I23: =ROUNDDOWN(I$20/12,2) -> 0 | J23: =SUM(E23:I23) -> 0 | K23: =J23+D23 -> 18228
A24: 04 | B24: julho | C24: =ROUNDDOWN(C$20/9,2) -> 18228 | D24: =ROUNDDOWN(D$20/9,2) -> 18228 | E24: =ROUNDDOWN(E$20/12,2) -> 0 | F24: =ROUNDDOWN(F$20/12,2) -> 0 | G24: =ROUNDDOWN(G$20/12,2) -> 0 | H24: =ROUNDDOWN(H$20/12,2) -> 0 | I24: =ROUNDDOWN(I$20/12,2) -> 0 | J24: =SUM(E24:I24) -> 0 | K24: =J24+D24 -> 18228
A25: 05 | B25: agosto | C25: =ROUNDDOWN(C$20/9,2) -> 18228 | D25: =ROUNDDOWN(D$20/9,2) -> 18228 | E25: =ROUNDDOWN(E$20/12,2) -> 0 | F25: =ROUNDDOWN(F$20/12,2) -> 0 | G25: =ROUNDDOWN(G$20/12,2) -> 0 | H25: =ROUNDDOWN(H$20/12,2) -> 0 | I25: =ROUNDDOWN(I$20/12,2) -> 0 | J25: =SUM(E25:I25) -> 0 | K25: =J25+D25 -> 18228
A26: 06 | B26: setembro | C26: =ROUNDDOWN(C$20/9,2) -> 18228 | D26: =ROUNDDOWN(D$20/9,2) -> 18228 | E26: =ROUNDDOWN(E$20/12,2) -> 0 | F26: =ROUNDDOWN(F$20/12,2) -> 0 | G26: =ROUNDDOWN(G$20/12,2) -> 0 | H26: =ROUNDDOWN(H$20/12,2) -> 0 | I26: =ROUNDDOWN(I$20/12,2) -> 0 | J26: =SUM(E26:I26) -> 0 | K26: =J26+D26 -> 18228
A27: 07 | B27: outubro | C27: =ROUNDDOWN(C$20/9,2) -> 18228 | D27: =ROUNDDOWN(D$20/9,2) -> 18228 | E27: =ROUNDDOWN(E$20/12,2) -> 0 | F27: =ROUNDDOWN(F$20/12,2) -> 0 | G27: =ROUNDDOWN(G$20/12,2) -> 0 | H27: =ROUNDDOWN(H$20/12,2) -> 0 | I27: =ROUNDDOWN(I$20/12,2) -> 0 | J27: =SUM(E27:I27) -> 0 | K27: =J27+D27 -> 18228
A28: 08 | B28: novembro | C28: =ROUNDDOWN(C$20/9,2) -> 18228 | D28: =ROUNDDOWN(D$20/9,2) -> 18228 | E28: =ROUNDDOWN(E$20/12,2) -> 0 | F28: =ROUNDDOWN(F$20/12,2) -> 0 | G28: =ROUNDDOWN(G$20/12,2) -> 0 | H28: =ROUNDDOWN(H$20/12,2) -> 0 | I28: =ROUNDDOWN(I$20/12,2) -> 0 | J28: =SUM(E28:I28) -> 0 | K28: =J28+D28 -> 18228
A29: 09 | B29: dezembro | C29: =ROUNDDOWN(C$20/9,2) -> 18228 | D29: =ROUNDDOWN(D$20/9,2) -> 18228 | E29: =ROUNDDOWN(E$20/12,2) -> 0 | F29: =ROUNDDOWN(F$20/12,2) -> 0 | G29: =ROUNDDOWN(G$20/12,2) -> 0 | H29: =ROUNDDOWN(H$20/12,2) -> 0 | I29: =ROUNDDOWN(I$20/12,2) -> 0 | J29: =SUM(E29:I29) -> 0 | K29: =J29+D29 -> 18228
A30: 10 | B30: janeiro | E30: =ROUNDDOWN(E$20/12,2) -> 0 | F30: =ROUNDDOWN(F$20/12,2) -> 0 | G30: =ROUNDDOWN(G$20/12,2) -> 0 | H30: =ROUNDDOWN(H$20/12,2) -> 0 | I30: =ROUNDDOWN(I$20/12,2) -> 0 | J30: =SUM(E30:I30) -> 0 | K30: =J30+D30 -> 0
A31: 11 | B31: fevereiro | E31: =ROUNDDOWN(E$20/12,2) -> 0 | F31: =ROUNDDOWN(F$20/12,2) -> 0 | G31: =ROUNDDOWN(G$20/12,2) -> 0 | H31: =ROUNDDOWN(H$20/12,2) -> 0 | I31: =ROUNDDOWN(I$20/12,2) -> 0 | J31: =SUM(E31:I31) -> 0 | K31: =J31+D31 -> 0
A32: 12 | B32: março | E32: =ROUNDDOWN(E$20/12,2) -> 0 | F32: =ROUNDDOWN(F$20/12,2) -> 0 | G32: =ROUNDDOWN(G$20/12,2) -> 0 | H32: =ROUNDDOWN(H$20/12,2) -> 0 | I32: =ROUNDDOWN(I$20/12,2) -> 0 | J32: =SUM(E32:I32) -> 0 | K32: =J32+D32 -> 0
B33: TOTAIS | C33: =SUM(C21:C32) -> 164052 | D33: =SUM(D21:D32) -> 164052 | E33: =SUM(E21:E32) -> 0 | F33: =SUM(F21:F32) -> 0 | G33: =SUM(G21:G32) -> 0 | H33: =SUM(H21:H32) -> 0 | I33: =SUM(I21:I32) -> 0 | J33: =SUM(J21:J32) -> 0 | K33: =SUM(K21:K32) -> 164052

Sheet Parcela 1
A4: DEMONSTRATIVO INTEGRAL DAS RECEITAS E DESPESAS
D5: =DADOS!A5 -> EXERCÍCIO: | E5: =DADOS!C5 -> 2025
A8: =DADOS!A$8 -> CONTRATANTE | D8: =DADOS!D$8 -> Prefeitura Municipal de Americana
A9: =DADOS!A$9 -> CONTRATADA | D9: =DADOS!D$9 -> Associação Beneficente Residencial Evangélico Benaiah
A10: =DADOS!A$14 -> CNPJ: | D10: =DADOS!B$14 -> 43.266.758/0001-89
A11: =DADOS!A$10 -> ENDEREÇO | D11: =DADOS!D$10 -> Rua Benaiah, 290 - Terramérica - Americana/SP – CEP 13.468-824
A12: =DADOS!A$11 -> RESPONSAVEL PELA ORGANIZAÇÃO | D12: =DADOS!D$11 -> HELIO DE OLIVEIRA CAMARGO
A13: =DADOS!A$13 -> TERMO DE COLABORAÇÃO | D13: =DADOS!D13 -> 148/2025 | E13: =DADOS!E13 -> ADITAMENTO | F13: =DADOS!F13 -> 0
A16: PARCELA Nº | C16: 1
A17: DEMOSTRATICO DOS REPASSES PÚBLICOS RECEBIDOS
A18: ORIGEM DOS RECURSOS | C18: VALORES PREVISTOS - R$ | E18: DOC. DE CRÉDITO Nº | F18: DATA | G18: VALORES
G19: REPASSADOS -R$
A20: Estadual | D20: =DADOS!C21 -> 18228 | E20: 000001 | F20: 45772 | G20: 18228
F24: RECEITA COM APLICAÇÕES FINANCEIRAS DOS REPASSES PÚBLICOS
F25: SALDO DE RECURSOS PÚBLICOS NÃO APLICADOS
F26: TOTAL | G26: =SUM(G20:G25) -> 18228
F27: RECURSOS PROPRIOS APLICADOS PELA ENTIDADE
A28: Os signatários, na qualidade de representantes da Associação Beneficente Residencial Evangélico Benaiah, vem indicar,
A29: na forma abaixo detalhada, a aplicação dos recursos recebidos no exercício supramencionado, na importância total de
A30: =SUM(G20:G23) -> 18228 | B30: (dezoito mil, duzentos e vinte e oito reais), acrescidos do saldo de recursos não
A31: aplicados no valor de R$ | C31: =G25 -> 0 | D31: ( reais)
A32: DEMONSTRATIVO DAS DESPESAS REALIZADAS
A33: CATEGORIA OU FINALIDADE | D33: PERIODO DE | F33: ORIGEM DO | G33: VALORES
A34: DAS DESPESAS | D34: REALIZAÇÃO | F34: RECURSO | G34: APLICADOS
A35: RECURSOS HUMANOS | D35: =DADOS!B$21 -> abril | F35: Estadual | G35: =G103 -> 18228
A36: MANUTENÇÃO - Utilidades públicas | D36: =DADOS!B$21 -> abril | F36: Estadual | G36: =G111 -> 0
A37: MANUTENÇÃO - Gêneros alimentícios | D37: =DADOS!B$21 -> abril | F37: Estadual | G37: =G126 -> 0
A38: MANUTENÇÃO - Mateirais de consumo | D38: =DADOS!B$21 -> abril | F38: Estadual | G38: =G138 -> 0
A39: MANUTENÇÃO - Combustível | D39: =DADOS!B$21 -> abril | F39: Municipal | G39: =G144 -> 0
A40: MANUTENÇÃO - Outras despesas | D40: =DADOS!B$21 -> abril | F40: Estadual | G40: =G153 -> 0
A41: TOTAL DAS DESPESAS | G41: =SUM(G35:G40) -> 18228
A42: RECURSO PÚBLICO NÃO APLICADO | G42: =SUM(G26-G41) -> 0
A43: VALOR DEVOLVIDO AO ORGÃO CONCESSOR
A44: VALOR AUTORIZADO PARA APLICAÇÃO NO EXERCICIO SEGUINTE | G44: =G42-G43 -> 0
A45: Declaramos, na qualidade de responsáveis pela Entidade supra epigrafada, sob as penalidades da Lei, que as despesas relacionadas, examinadas pelo Conselho Fiscal, comprovam a exata aplicação dos recursos recebidos para os fins indicados através da conta corrente 1292-000577596477-9, agência 0278, da CEF, para finalidade específica, conforme programa de trabalho aprovado, proposto ao Órgão Concessor.
B47: Americana, | C47: 15 de maio de 2025.
A53: Menbros do Conselho Fiscal
B57: =A4 -> DEMONSTRATIVO INTEGRAL DAS RECEITAS E DESPESAS
D58: =D5 -> EXERCÍCIO: | E58: =E5 -> 2025
A60: =A8 -> CONTRATANTE | D60: =D8 -> Prefeitura Municipal de Americana
...

Sheet Parcela 2
A4: DEMONSTRATIVO INTEGRAL DAS RECEITAS E DESPESAS
D5: =DADOS!A5 -> EXERCÍCIO: | E5: =DADOS!C5 -> 2025
A8: =DADOS!A$8 -> CONTRATANTE | D8: =DADOS!D$8 -> Prefeitura Municipal de Americana
A9: =DADOS!A$9 -> CONTRATADA | D9: =DADOS!D$9 -> Associação Beneficente Residencial Evangélico Benaiah
A10: =DADOS!A$14 -> CNPJ: | D10: =DADOS!B$14 -> 43.266.758/0001-89
A11: =DADOS!A$10 -> ENDEREÇO | D11: =DADOS!D$10 -> Rua Benaiah, 290 - Terramérica - Americana/SP – CEP 13.468-824
A12: =DADOS!A$11 -> RESPONSAVEL PELA ORGANIZAÇÃO | D12: =DADOS!D$11 -> HELIO DE OLIVEIRA CAMARGO
A13: =DADOS!A$13 -> TERMO DE COLABORAÇÃO | D13: =DADOS!D13 -> 148/2025 | E13: =DADOS!E13 -> ADITAMENTO | F13: =DADOS!F13 -> 0
A16: PARCELA Nº | C16: 2
A17: DEMOSTRATICO DOS REPASSES PÚBLICOS RECEBIDOS
A18: ORIGEM DOS RECURSOS | C18: VALORES PREVISTOS - R$ | E18: DOC. DE CRÉDITO Nº | F18: DATA | G18: VALORES
G19: REPASSADOS -R$
A20: Estadual | D20: =DADOS!C22 -> 18228 | E20: 000001 | F20: 45800 | G20: 18228
F24: RECEITA COM APLICAÇÕES FINANCEIRAS DOS REPASSES PÚBLICOS
F25: SALDO DE RECURSOS PÚBLICOS NÃO APLICADOS
F26: TOTAL | G26: =SUM(G20:G25) -> 18228
F27: RECURSOS PROPRIOS APLICADOS PELA ENTIDADE
A28: Os signatários, na qualidade de representantes da Associação Beneficente Residencial Evangélico Benaiah, vem indicar,
A29: na forma abaixo detalhada, a aplicação dos recursos recebidos no exercício supramencionado, na importância total de
A30: =SUM(G20:G23) -> 18228 | B30: (dezoito mil, duzentos e vinte e oito reais), acrescidos do saldo de recursos não
A31: aplicados no valor de R$ | C31: =G25 -> 0 | D31: ( reais)
A32: DEMONSTRATIVO DAS DESPESAS REALIZADAS
A33: CATEGORIA OU FINALIDADE | D33: PERIODO DE | F33: ORIGEM DO | G33: VALORES
A34: DAS DESPESAS | D34: REALIZAÇÃO | F34: RECURSO | G34: APLICADOS
A35: RECURSOS HUMANOS | D35: =DADOS!B$22 -> maio | F35: Estadual | G35: =G103 -> 18228
A36: MANUTENÇÃO - Utilidades públicas | D36: =DADOS!B$22 -> maio | F36: Estadual | G36: =G111 -> 0
A37: MANUTENÇÃO - Gêneros alimentícios | D37: =DADOS!B$22 -> maio | F37: Estadual | G37: =G126 -> 0
A38: MANUTENÇÃO - Mateirais de consumo | D38: =DADOS!B$22 -> maio | F38: Estadual | G38: =G138 -> 0
A39: MANUTENÇÃO - Combustível | D39: =DADOS!B$22 -> maio | F39: Municipal | G39: =G144 -> 0
A40: MANUTENÇÃO - Outras despesas | D40: =DADOS!B$22 -> maio | F40: Estadual | G40: =G153 -> 0
A41: TOTAL DAS DESPESAS | G41: =SUM(G35:G40) -> 18228
A42: RECURSO PÚBLICO NÃO APLICADO | G42: =SUM(G20:G23)-G41 -> 0 | H42: =G26-G41-G25 -> 0
A43: VALOR DEVOLVIDO AO ORGÃO CONCESSOR
A44: VALOR AUTORIZADO PARA APLICAÇÃO NO EXERCICIO SEGUINTE | G44: =G26-G41-G43 -> 0
A45: Declaramos, na qualidade de responsáveis pela Entidade supra epigrafada, sob as penalidades da Lei, que as despesas relacionadas, examinadas pelo Conselho Fiscal, comprovam a exata aplicação dos recursos recebidos para os fins indicados através da conta corrente 003/00004496-0, agência 0278, da CEF, para finalidade específica, conforme programa de trabalho aprovado, proposto ao Órgão Concessor.
B47: Americana, | C47: 18 de junho de 2025.
A53: Menbros do Conselho Fiscal
B57: =A4 -> DEMONSTRATIVO INTEGRAL DAS RECEITAS E DESPESAS
D58: =D5 -> EXERCÍCIO: | E58: =E5 -> 2025
A60: =A8 -> CONTRATANTE | D60: =D8 -> Prefeitura Municipal de Americana
...

Sheet Parcela 3
A4: DEMONSTRATIVO INTEGRAL DAS RECEITAS E DESPESAS
D5: =DADOS!A5 -> EXERCÍCIO: | E5: =DADOS!C5 -> 2025
A8: =DADOS!A$8 -> CONTRATANTE | D8: =DADOS!D$8 -> Prefeitura Municipal de Americana
A9: =DADOS!A$9 -> CONTRATADA | D9: =DADOS!D$9 -> Associação Beneficente Residencial Evangélico Benaiah
A10: =DADOS!A$14 -> CNPJ: | D10: =DADOS!B$14 -> 43.266.758/0001-89
A11: =DADOS!A$10 -> ENDEREÇO | D11: =DADOS!D$10 -> Rua Benaiah, 290 - Terramérica - Americana/SP – CEP 13.468-824
A12: =DADOS!A$11 -> RESPONSAVEL PELA ORGANIZAÇÃO | D12: =DADOS!D$11 -> HELIO DE OLIVEIRA CAMARGO
A13: =DADOS!A$13 -> TERMO DE COLABORAÇÃO | D13: =DADOS!D13 -> 148/2025 | E13: =DADOS!E13 -> ADITAMENTO | F13: =DADOS!F13 -> 0
A16: PARCELA Nº | C16: 3
A17: DEMOSTRATICO DOS REPASSES PÚBLICOS RECEBIDOS
A18: ORIGEM DOS RECURSOS | C18: VALORES PREVISTOS - R$ | E18: DOC. DE CRÉDITO Nº | F18: DATA | G18: VALORES
G19: REPASSADOS -R$
A20: Estadual | D20: =DADOS!C23 -> 18228 | E20: 000001 | F20: 45833 | G20: 18228
F24: RECEITA COM APLICAÇÕES FINANCEIRAS DOS REPASSES PÚBLICOS
F25: SALDO DE RECURSOS PÚBLICOS NÃO APLICADOS | G25: ='Parcela 2'!G44 -> 0
F26: TOTAL | G26: =SUM(G20:G25) -> 18228
F27: RECURSOS PROPRIOS APLICADOS PELA ENTIDADE
A28: Os signatários, na qualidade de representantes da Associação Beneficente Residencial Evangélico Benaiah, vem indicar,
A29: na forma abaixo detalhada, a aplicação dos recursos recebidos no exercício supramencionado, na importância total de
A30: =SUM(G20:G23) -> 18228 | B30: (dezoito mil, duzentos e vinte e oito reais), acrescidos do saldo de recursos não
A31: aplicados no valor de R$ | C31: =G25 -> 0 | D31: ( reais)
A32: DEMONSTRATIVO DAS DESPESAS REALIZADAS
A33: CATEGORIA OU FINALIDADE | D33: PERIODO DE | F33: ORIGEM DO | G33: VALORES
A34: DAS DESPESAS | D34: REALIZAÇÃO | F34: RECURSO | G34: APLICADOS
A35: RECURSOS HUMANOS | D35: =DADOS!B$23 -> junho | F35: Estadual | G35: =G103 -> 18228
A36: MANUTENÇÃO - Utilidades públicas | D36: =DADOS!B$23 -> junho | F36: Estadual | G36: =G111 -> 0
A37: MANUTENÇÃO - Gêneros alimentícios | D37: =DADOS!B$23 -> junho | F37: Estadual | G37: =G126 -> 0
A38: MANUTENÇÃO - Mateirais de consumo | D38: =DADOS!B$23 -> junho | F38: Estadual | G38: =G138 -> 0
A39: MANUTENÇÃO - Combustível | D39: =DADOS!B$23 -> junho | F39: Municipal | G39: =G144 -> 0
A40: MANUTENÇÃO - Outras despesas | D40: =DADOS!B$23 -> junho | F40: Estadual | G40: =G153 -> 0
A41: TOTAL DAS DESPESAS | G41: =SUM(G35:G40) -> 18228
A42: RECURSO PÚBLICO NÃO APLICADO | G42: =SUM(G26-G41) -> 0
A43: VALOR DEVOLVIDO AO ORGÃO CONCESSOR
A44: VALOR AUTORIZADO PARA APLICAÇÃO NO EXERCICIO SEGUINTE | G44: =G42-G43 -> 0
A45: Declaramos, na qualidade de responsáveis pela Entidade supra epigrafada, sob as penalidades da Lei, que as despesas relacionadas, examinadas pelo Conselho Fiscal, comprovam a exata aplicação dos recursos recebidos para os fins indicados através da conta corrente 003/00004496-0, agência 0278, da CEF, para finalidade específica, conforme programa de trabalho aprovado, proposto ao Órgão Concessor.
B47: Americana, | C47: 15 de julho de 2025.
A53: Menbros do Conselho Fiscal
B57: =A4 -> DEMONSTRATIVO INTEGRAL DAS RECEITAS E DESPESAS
D58: =D5 -> EXERCÍCIO: | E58: =E5 -> 2025
A60: =A8 -> CONTRATANTE | D60: =D8 -> Prefeitura Municipal de Americana
...

Sheet Parcela 4
A4: DEMONSTRATIVO INTEGRAL DAS RECEITAS E DESPESAS
D5: =DADOS!A5 -> EXERCÍCIO: | E5: =DADOS!C5 -> 2025
A8: =DADOS!A$8 -> CONTRATANTE | D8: =DADOS!D$8 -> Prefeitura Municipal de Americana
A9: =DADOS!A$9 -> CONTRATADA | D9: =DADOS!D$9 -> Associação Beneficente Residencial Evangélico Benaiah
A10: =DADOS!A$14 -> CNPJ: | D10: =DADOS!B$14 -> 43.266.758/0001-89
A11: =DADOS!A$10 -> ENDEREÇO | D11: =DADOS!D$10 -> Rua Benaiah, 290 - Terramérica - Americana/SP – CEP 13.468-824
A12: =DADOS!A$11 -> RESPONSAVEL PELA ORGANIZAÇÃO | D12: =DADOS!D$11 -> HELIO DE OLIVEIRA CAMARGO
A13: =DADOS!A$13 -> TERMO DE COLABORAÇÃO | D13: =DADOS!D13 -> 148/2025 | E13: =DADOS!E13 -> ADITAMENTO | F13: =DADOS!F13 -> 0
A16: PARCELA Nº | C16: 4
A17: DEMOSTRATICO DOS REPASSES PÚBLICOS RECEBIDOS
A18: ORIGEM DOS RECURSOS | C18: VALORES PREVISTOS - R$ | E18: DOC. DE CRÉDITO Nº | F18: DATA | G18: VALORES
G19: REPASSADOS -R$
A20: Estadual | D20: =DADOS!C24 -> 18228
F24: RECEITA COM APLICAÇÕES FINANCEIRAS DOS REPASSES PÚBLICOS
F25: SALDO DE RECURSOS PÚBLICOS NÃO APLICADOS | G25: ='Parcela 3'!G44 -> 0
F26: TOTAL | G26: =SUM(G20:G25) -> 0
F27: RECURSOS PROPRIOS APLICADOS PELA ENTIDADE
A28: Os signatários, na qualidade de representantes da Associação Beneficente Residencial Evangélico Benaiah, vem indicar,
A29: na forma abaixo detalhada, a aplicação dos recursos recebidos no exercício supramencionado, na importância total de
A30: =SUM(G20:G23) -> 0 | B30: (dezoito mil, duzentos e vinte e oito reais), acrescidos do saldo de recursos não
A31: aplicados no valor de R$ | C31: =G25 -> 0 | D31: ( reais)
A32: DEMONSTRATIVO DAS DESPESAS REALIZADAS
A33: CATEGORIA OU FINALIDADE | D33: PERIODO DE | F33: ORIGEM DO | G33: VALORES
A34: DAS DESPESAS | D34: REALIZAÇÃO | F34: RECURSO | G34: APLICADOS
A35: RECURSOS HUMANOS | D35: =DADOS!B$24 -> julho | F35: Estadual | G35: =G103 -> 18228
A36: MANUTENÇÃO - Utilidades públicas | D36: =DADOS!B$24 -> julho | F36: Estadual | G36: =G111 -> 0
A37: MANUTENÇÃO - Gêneros alimentícios | D37: =DADOS!B$24 -> julho | F37: Estadual | G37: =G126 -> 0
A38: MANUTENÇÃO - Mateirais de consumo | D38: =DADOS!B$24 -> julho | F38: Estadual | G38: =G138 -> 0
A39: MANUTENÇÃO - Combustível | D39: =DADOS!B$23 -> junho | F39: Municipal | G39: =G144 -> 0
A40: MANUTENÇÃO - Outras despesas | D40: =DADOS!B$24 -> julho | F40: Estadual | G40: =G153 -> 0
A41: TOTAL DAS DESPESAS | G41: =SUM(G35:G40) -> 18228
A42: RECURSO PÚBLICO NÃO APLICADO | G42: =SUM(G26-G41) -> -18228
A43: VALOR DEVOLVIDO AO ORGÃO CONCESSOR
A44: VALOR AUTORIZADO PARA APLICAÇÃO NO EXERCICIO SEGUINTE | G44: =G42-G43 -> -18228
A45: Declaramos, na qualidade de responsáveis pela Entidade supra epigrafada, sob as penalidades da Lei, que as despesas relacionadas, examinadas pelo Conselho Fiscal, comprovam a exata aplicação dos recursos recebidos para os fins indicados através da conta corrente 003/00004496-0, agência 0278, para finalidade específica, conforme programa de trabalho aprovado, proposto ao Órgão Concessor.
B47: Americana,
A53: Membros do Conselho Fiscal
B57: =A4 -> DEMONSTRATIVO INTEGRAL DAS RECEITAS E DESPESAS
D58: =D5 -> EXERCÍCIO: | E58: =E5 -> 2025
A60: =A8 -> CONTRATANTE | D60: =D8 -> Prefeitura Municipal de Americana
...

Sheet Parcela 5
A4: DEMONSTRATIVO INTEGRAL DAS RECEITAS E DESPESAS
D5: =DADOS!A5 -> EXERCÍCIO: | E5: =DADOS!C5 -> 2025
A8: =DADOS!A$8 -> CONTRATANTE | D8: =DADOS!D$8 -> Prefeitura Municipal de Americana
A9: =DADOS!A$9 -> CONTRATADA | D9: =DADOS!D$9 -> Associação Beneficente Residencial Evangélico Benaiah
A10: =DADOS!A$14 -> CNPJ: | D10: =DADOS!B$14 -> 43.266.758/0001-89
A11: =DADOS!A$10 -> ENDEREÇO | D11: =DADOS!D$10 -> Rua Benaiah, 290 - Terramérica - Americana/SP – CEP 13.468-824
A12: =DADOS!A$11 -> RESPONSAVEL PELA ORGANIZAÇÃO | D12: =DADOS!D$11 -> HELIO DE OLIVEIRA CAMARGO
A13: =DADOS!A$13 -> TERMO DE COLABORAÇÃO | D13: =DADOS!D13 -> 148/2025 | E13: =DADOS!E13 -> ADITAMENTO | F13: =DADOS!F13 -> 0
A16: PARCELA Nº | C16: 5
A17: DEMOSTRATICO DOS REPASSES PÚBLICOS RECEBIDOS
A18: ORIGEM DOS RECURSOS | C18: VALORES PREVISTOS - R$ | E18: DOC. DE CRÉDITO Nº | F18: DATA | G18: VALORES
G19: REPASSADOS -R$
A20: Estadual | D20: =DADOS!C25 -> 18228
F24: RECEITA COM APLICAÇÕES FINANCEIRAS DOS REPASSES PÚBLICOS
F25: SALDO DE RECURSOS PÚBLICOS NÃO APLICADOS | G25: ='Parcela 4'!G44 -> -18228
F26: TOTAL | G26: =SUM(G20:G25) -> -18228
F27: RECURSOS PROPRIOS APLICADOS PELA ENTIDADE
A28: Os signatários, na qualidade de representantes da Associação Beneficente Residencial Evangélico Benaiah, vem indicar,
A29: na forma abaixo detalhada, a aplicação dos recursos recebidos no exercício supramencionado, na importância total de
A30: =SUM(G20:G23) -> 0 | B30: (dezoito mil, duzentos e vinte e oito reais), acrescidos do saldo de recursos não
A31: aplicados no valor de R$ | C31: =G25 -> -18228 | D31: ( reais)
A32: DEMONSTRATIVO DAS DESPESAS REALIZADAS
A33: CATEGORIA OU FINALIDADE | D33: PERIODO DE | F33: ORIGEM DO | G33: VALORES
A34: DAS DESPESAS | D34: REALIZAÇÃO | F34: RECURSO | G34: APLICADOS
A35: RECURSOS HUMANOS | D35: =DADOS!B$25 -> agosto | F35: Estadual | G35: =G103 -> 0
A36: MANUTENÇÃO - Utilidades públicas | D36: =DADOS!B$25 -> agosto | F36: Estadual | G36: =G111 -> 0
A37: MANUTENÇÃO - Gêneros alimentícios | D37: =DADOS!B$25 -> agosto | F37: Estadual | G37: =G126 -> 0
A38: MANUTENÇÃO - Mateirais de consumo | D38: =DADOS!B$25 -> agosto | F38: Estadual | G38: =G138 -> 0
A39: MANUTENÇÃO - Combustível | D39: =DADOS!B$25 -> agosto | F39: Municipal | G39: =G144 -> 0
A40: MANUTENÇÃO - Outras despesas | D40: =DADOS!B$25 -> agosto | F40: Estadual | G40: =G153 -> 0
A41: TOTAL DAS DESPESAS | G41: =SUM(G35:G40) -> 0
A42: RECURSO PÚBLICO NÃO APLICADO | G42: =SUM(G26-G41) -> -18228
A43: VALOR DEVOLVIDO AO ORGÃO CONCESSOR
A44: VALOR AUTORIZADO PARA APLICAÇÃO NO EXERCICIO SEGUINTE | G44: =G42-G43 -> -18228
A45: Declaramos, na qualidade de responsáveis pela Entidade supra epigrafada, sob as penalidades da Lei, que as despesas relacionadas, examinadas pelo Conselho Fiscal, comprovam a exata aplicação dos recursos recebidos para os fins indicados através da conta corrente 003/00004496-0, agência 0278, para finalidade específica, conforme programa de trabalho aprovado, proposto ao Órgão Concessor.
B47: Americana,
A53: Membros do Conselho Fiscal
B57: =A4 -> DEMONSTRATIVO INTEGRAL DAS RECEITAS E DESPESAS
D58: =D5 -> EXERCÍCIO: | E58: =E5 -> 2025
A60: =A8 -> CONTRATANTE | D60: =D8 -> Prefeitura Municipal de Americana
...

Sheet Parcela 6
A4: DEMONSTRATIVO INTEGRAL DAS RECEITAS E DESPESAS
D5: =DADOS!A5 -> EXERCÍCIO: | E5: =DADOS!C5 -> 2025
A8: =DADOS!A$8 -> CONTRATANTE | D8: =DADOS!D$8 -> Prefeitura Municipal de Americana
A9: =DADOS!A$9 -> CONTRATADA | D9: =DADOS!D$9 -> Associação Beneficente Residencial Evangélico Benaiah
A10: =DADOS!A$14 -> CNPJ: | D10: =DADOS!B$14 -> 43.266.758/0001-89
A11: =DADOS!A$10 -> ENDEREÇO | D11: =DADOS!D$10 -> Rua Benaiah, 290 - Terramérica - Americana/SP – CEP 13.468-824
A12: =DADOS!A$11 -> RESPONSAVEL PELA ORGANIZAÇÃO | D12: =DADOS!D$11 -> HELIO DE OLIVEIRA CAMARGO
A13: =DADOS!A$13 -> TERMO DE COLABORAÇÃO | D13: =DADOS!D13 -> 148/2025 | E13: =DADOS!E13 -> ADITAMENTO | F13: =DADOS!F13 -> 0
A16: PARCELA Nº | C16: 6
A17: DEMOSTRATICO DOS REPASSES PÚBLICOS RECEBIDOS
A18: ORIGEM DOS RECURSOS | C18: VALORES PREVISTOS - R$ | E18: DOC. DE CRÉDITO Nº | F18: DATA | G18: VALORES
G19: REPASSADOS -R$
A20: Estadual | D20: =DADOS!C26 -> 18228
F24: RECEITA COM APLICAÇÕES FINANCEIRAS DOS REPASSES PÚBLICOS
F25: SALDO DE RECURSOS PÚBLICOS NÃO APLICADOS | G25: ='Parcela 5'!G44 -> -18228
F26: TOTAL | G26: =SUM(G20:G25) -> -18228
F27: RECURSOS PROPRIOS APLICADOS PELA ENTIDADE
A28: Os signatários, na qualidade de representantes da Associação Beneficente Residencial Evangélico Benaiah, vem indicar,
A29: na forma abaixo detalhada, a aplicação dos recursos recebidos no exercício supramencionado, na importância total de
A30: =SUM(G20:G23) -> 0 | B30: (dezoito mil, duzentos e vinte e oito reais), acrescidos do saldo de recursos não
A31: aplicados no valor de R$ | C31: =G25 -> -18228 | D31: ( reais)
A32: DEMONSTRATIVO DAS DESPESAS REALIZADAS
A33: CATEGORIA OU FINALIDADE | D33: PERIODO DE | F33: ORIGEM DO | G33: VALORES
A34: DAS DESPESAS | D34: REALIZAÇÃO | F34: RECURSO | G34: APLICADOS
A35: RECURSOS HUMANOS | D35: =DADOS!B$26 -> setembro | F35: Estadual | G35: =G103 -> 0
A36: MANUTENÇÃO - Utilidades públicas | D36: =DADOS!B$26 -> setembro | F36: Estadual | G36: =G111 -> 0
A37: MANUTENÇÃO - Gêneros alimentícios | D37: =DADOS!B$26 -> setembro | F37: Estadual | G37: =G126 -> 0
A38: MANUTENÇÃO - Mateirais de consumo | D38: =DADOS!B$26 -> setembro | F38: Estadual | G38: =G138 -> 0
A39: MANUTENÇÃO - Combustível | D39: =DADOS!B$26 -> setembro | F39: Estadual | G39: =G144 -> 0
A40: MANUTENÇÃO - Outras despesas | D40: =DADOS!B$26 -> setembro | F40: Estadual | G40: =G153 -> 0
A41: TOTAL DAS DESPESAS | G41: =SUM(G35:G40) -> 0
A42: RECURSO PÚBLICO NÃO APLICADO | G42: =SUM(G26-G41) -> -18228
A43: VALOR DEVOLVIDO AO ORGÃO CONCESSOR
A44: VALOR AUTORIZADO PARA APLICAÇÃO NO EXERCICIO SEGUINTE | G44: =G42-G43 -> -18228
A45: Declaramos, na qualidade de responsáveis pela Entidade supra epigrafada, sob as penalidades da Lei, que as despesas relacionadas, examinadas pelo Conselho Fiscal, comprovam a exata aplicação dos recursos recebidos para os fins indicados através da conta corrente 003/00004496-0, agência 0278, para finalidade específica, conforme programa de trabalho aprovado, proposto ao Órgão Concessor.
B47: Americana,
A53: Membros do Conselho Fiscal
B57: =A4 -> DEMONSTRATIVO INTEGRAL DAS RECEITAS E DESPESAS
D58: =D5 -> EXERCÍCIO: | E58: =E5 -> 2025
A60: =A8 -> CONTRATANTE | D60: =D8 -> Prefeitura Municipal de Americana
...

Sheet Parcela 7
A4: DEMONSTRATIVO INTEGRAL DAS RECEITAS E DESPESAS
D5: =DADOS!A5 -> EXERCÍCIO: | E5: =DADOS!C5 -> 2025
A8: =DADOS!A$8 -> CONTRATANTE | D8: =DADOS!D$8 -> Prefeitura Municipal de Americana
A9: =DADOS!A$9 -> CONTRATADA | D9: =DADOS!D$9 -> Associação Beneficente Residencial Evangélico Benaiah
A10: =DADOS!A$14 -> CNPJ: | D10: =DADOS!B$14 -> 43.266.758/0001-89
A11: =DADOS!A$10 -> ENDEREÇO | D11: =DADOS!D$10 -> Rua Benaiah, 290 - Terramérica - Americana/SP – CEP 13.468-824
A12: =DADOS!A$11 -> RESPONSAVEL PELA ORGANIZAÇÃO | D12: =DADOS!D$11 -> HELIO DE OLIVEIRA CAMARGO
A13: =DADOS!A$13 -> TERMO DE COLABORAÇÃO | D13: =DADOS!D13 -> 148/2025 | E13: =DADOS!E13 -> ADITAMENTO | F13: =DADOS!F13 -> 0
A16: PARCELA Nº | C16: 7
A17: DEMOSTRATICO DOS REPASSES PÚBLICOS RECEBIDOS
A18: ORIGEM DOS RECURSOS | C18: VALORES PREVISTOS - R$ | E18: DOC. DE CRÉDITO Nº | F18: DATA | G18: VALORES
G19: REPASSADOS -R$
A20: Estadual | D20: =DADOS!C27 -> 18228
E22: .
F24: RECEITA COM APLICAÇÕES FINANCEIRAS DOS REPASSES PÚBLICOS
F25: SALDO DE RECURSOS PÚBLICOS NÃO APLICADOS | G25: ='Parcela 6'!G44 -> -18228
F26: TOTAL | G26: =SUM(G20:G25) -> -18228
F27: RECURSOS PROPRIOS APLICADOS PELA ENTIDADE
A28: Os signatários, na qualidade de representantes da Associação Beneficente Residencial Evangélico Benaiah, vem indicar,
A29: na forma abaixo detalhada, a aplicação dos recursos recebidos no exercício supramencionado, na importância total de
A30: =SUM(G20:G23) -> 0 | B30: (dezoito mil, duzentos e vinte e oito reais), acrescidos do saldo de recursos não
A31: aplicados no valor de R$ | C31: =G25 -> -18228 | D31: ( reais)
A32: DEMONSTRATIVO DAS DESPESAS REALIZADAS
A33: CATEGORIA OU FINALIDADE | D33: PERIODO DE | F33: ORIGEM DO | G33: VALORES
A34: DAS DESPESAS | D34: REALIZAÇÃO | F34: RECURSO | G34: APLICADOS
A35: RECURSOS HUMANOS | D35: =DADOS!B$27 -> outubro | F35: Estadual | G35: =G103 -> 0
A36: MANUTENÇÃO - Utilidades públicas | D36: =DADOS!B$27 -> outubro | F36: Estadual | G36: =G111 -> 0
A37: MANUTENÇÃO - Gêneros alimentícios | D37: =DADOS!B$27 -> outubro | F37: Estadual | G37: =G126 -> 0
A38: MANUTENÇÃO - Mateirais de consumo | D38: =DADOS!B$27 -> outubro | F38: Estadual | G38: =G138 -> 0
A39: MANUTENÇÃO - Combustível | D39: =DADOS!B$27 -> outubro | F39: Estadual | G39: =G144 -> 0
A40: MANUTENÇÃO - Outras despesas | D40: =DADOS!B$27 -> outubro | F40: Estadual | G40: =G153 -> 0
A41: TOTAL DAS DESPESAS | G41: =SUM(G35:G40) -> 0
A42: RECURSO PÚBLICO NÃO APLICADO | G42: =SUM(G26-G41) -> -18228
A43: VALOR DEVOLVIDO AO ORGÃO CONCESSOR
A44: VALOR AUTORIZADO PARA APLICAÇÃO NO EXERCICIO SEGUINTE | G44: =G42-G43 -> -18228
A45: Declaramos, na qualidade de responsáveis pela Entidade supra epigrafada, sob as penalidades da Lei, que as despesas relacionadas, examinadas pelo Conselho Fiscal, comprovam a exata aplicação dos recursos recebidos para os fins indicados através da conta corrente 003/00004496-0, agência 0278, para finalidade específica, conforme programa de trabalho aprovado, proposto ao Órgão Concessor.
B47: Americana,
A53: Membros do Conselho Fiscal
B57: =A4 -> DEMONSTRATIVO INTEGRAL DAS RECEITAS E DESPESAS
D58: =D5 -> EXERCÍCIO: | E58: =E5 -> 2025
...

Sheet Parcela 8
A4: DEMONSTRATIVO INTEGRAL DAS RECEITAS E DESPESAS
D5: =DADOS!A5 -> EXERCÍCIO: | E5: =DADOS!C5 -> 2025
A8: =DADOS!A$8 -> CONTRATANTE | D8: =DADOS!D$8 -> Prefeitura Municipal de Americana
A9: =DADOS!A$9 -> CONTRATADA | D9: =DADOS!D$9 -> Associação Beneficente Residencial Evangélico Benaiah
A10: =DADOS!A$14 -> CNPJ: | D10: =DADOS!B$14 -> 43.266.758/0001-89
A11: =DADOS!A$10 -> ENDEREÇO | D11: =DADOS!D$10 -> Rua Benaiah, 290 - Terramérica - Americana/SP – CEP 13.468-824
A12: =DADOS!A$11 -> RESPONSAVEL PELA ORGANIZAÇÃO | D12: =DADOS!D$11 -> HELIO DE OLIVEIRA CAMARGO
A13: =DADOS!A$13 -> TERMO DE COLABORAÇÃO | D13: =DADOS!D13 -> 148/2025 | E13: =DADOS!E13 -> ADITAMENTO | F13: =DADOS!F13 -> 0
A16: PARCELA Nº | C16: 8
A17: DEMOSTRATICO DOS REPASSES PÚBLICOS RECEBIDOS
A18: ORIGEM DOS RECURSOS | C18: VALORES PREVISTOS - R$ | E18: DOC. DE CRÉDITO Nº | F18: DATA | G18: VALORES
G19: REPASSADOS -R$
A20: Estadual | D20: =DADOS!C28 -> 18228
F24: RECEITA COM APLICAÇÕES FINANCEIRAS DOS REPASSES PÚBLICOS
F25: SALDO DE RECURSOS PÚBLICOS NÃO APLICADOS | G25: ='Parcela 7'!G44 -> -18228
F26: TOTAL | G26: =SUM(G20:G25) -> -18228
F27: RECURSOS PROPRIOS APLICADOS PELA ENTIDADE
A28: Os signatários, na qualidade de representantes da Associação Beneficente Residencial Evangélico Benaiah, vem indicar,
A29: na forma abaixo detalhada, a aplicação dos recursos recebidos no exercício supramencionado, na importância total de
A30: =SUM(G20:G23) -> 0 | B30: (dezoito mil, duzentos e vinte e oito reais), acrescidos do saldo de recursos não
A31: aplicados no valor de R$ | C31: =G25 -> -18228 | D31: ( reais)
A32: DEMONSTRATIVO DAS DESPESAS REALIZADAS
A33: CATEGORIA OU FINALIDADE | D33: PERIODO DE | F33: ORIGEM DO | G33: VALORES
A34: DAS DESPESAS | D34: REALIZAÇÃO | F34: RECURSO | G34: APLICADOS
A35: RECURSOS HUMANOS | D35: =DADOS!B$28 -> novembro | F35: Estadual | G35: =G103 -> 0
A36: MANUTENÇÃO - Utilidades públicas | D36: =DADOS!B$28 -> novembro | F36: Estadual | G36: =G111 -> 0
A37: MANUTENÇÃO - Gêneros alimentícios | D37: =DADOS!B$28 -> novembro | F37: Estadual | G37: =G126 -> 0
A38: MANUTENÇÃO - Mateirais de consumo | D38: =DADOS!B$28 -> novembro | F38: Estadual | G38: =G138 -> 0
A39: MANUTENÇÃO - Combustível | D39: =DADOS!B$28 -> novembro | F39: Estadual | G39: =G144 -> 0
A40: MANUTENÇÃO - Outras despesas | D40: =DADOS!B$28 -> novembro | F40: Estadual | G40: =G153 -> 0
A41: TOTAL DAS DESPESAS | G41: =SUM(G35:G40) -> 0
A42: RECURSO PÚBLICO NÃO APLICADO | G42: =SUM(G26-G41) -> -18228
A43: VALOR DEVOLVIDO AO ORGÃO CONCESSOR
A44: VALOR AUTORIZADO PARA APLICAÇÃO NO EXERCICIO SEGUINTE | G44: =G42-G43 -> -18228
A45: Declaramos, na qualidade de responsáveis pela Entidade supra epigrafada, sob as penalidades da Lei, que as despesas relacionadas, examinadas pelo Conselho Fiscal, comprovam a exata aplicação dos recursos recebidos para os fins indicados através da conta corrente 003/00004496-0, agência 0278, para finalidade específica, conforme programa de trabalho aprovado, proposto ao Órgão Concessor.
B47: Americana,
A53: Membros do Conselho Fiscal
B57: =A4 -> DEMONSTRATIVO INTEGRAL DAS RECEITAS E DESPESAS
D58: =D5 -> EXERCÍCIO: | E58: =E5 -> 2025
A60: =A8 -> CONTRATANTE | D60: =D8 -> Prefeitura Municipal de Americana
...

Sheet Parcela 9
A4: DEMONSTRATIVO INTEGRAL DAS RECEITAS E DESPESAS
D5: =DADOS!A5 -> EXERCÍCIO: | E5: =DADOS!C5 -> 2025
A8: =DADOS!A$8 -> CONTRATANTE | D8: =DADOS!D$8 -> Prefeitura Municipal de Americana
A9: =DADOS!A$9 -> CONTRATADA | D9: =DADOS!D$9 -> Associação Beneficente Residencial Evangélico Benaiah
A10: =DADOS!A$14 -> CNPJ: | D10: =DADOS!B$14 -> 43.266.758/0001-89
A11: =DADOS!A$10 -> ENDEREÇO | D11: =DADOS!D$10 -> Rua Benaiah, 290 - Terramérica - Americana/SP – CEP 13.468-824
A12: =DADOS!A$11 -> RESPONSAVEL PELA ORGANIZAÇÃO | D12: =DADOS!D$11 -> HELIO DE OLIVEIRA CAMARGO
A13: =DADOS!A$13 -> TERMO DE COLABORAÇÃO | D13: =DADOS!D13 -> 148/2025 | E13: =DADOS!E13 -> ADITAMENTO | F13: =DADOS!F13 -> 0
A16: PARCELA Nº | C16: 9
A17: DEMOSTRATICO DOS REPASSES PÚBLICOS RECEBIDOS
A18: ORIGEM DOS RECURSOS | C18: VALORES PREVISTOS - R$ | E18: DOC. DE CRÉDITO Nº | F18: DATA | G18: VALORES
G19: REPASSADOS -R$
A20: Estadual | D20: =DADOS!C29 -> 18228
F24: RECEITA COM APLICAÇÕES FINANCEIRAS DOS REPASSES PÚBLICOS
F25: SALDO DE RECURSOS PÚBLICOS NÃO APLICADOS | G25: ='Parcela 8'!G44 -> -18228
F26: TOTAL | G26: =SUM(G20:G25) -> -18228
F27: RECURSOS PROPRIOS APLICADOS PELA ENTIDADE
A28: Os signatários, na qualidade de representantes da Associação Beneficente Residencial Evangélico Benaiah, vem indicar,
A29: na forma abaixo detalhada, a aplicação dos recursos recebidos no exercício supramencionado, na importância total de
A30: =SUM(G20:G23) -> 0 | B30: (dezoito mil, trezentos e noventa e um reais e sessenta centavos), acrescidos do saldo de recursos não
A31: aplicados no valor de R$ | C31: =G25 -> -18228 | D31: ( reais)
A32: DEMONSTRATIVO DAS DESPESAS REALIZADAS
A33: CATEGORIA OU FINALIDADE | D33: PERIODO DE | F33: ORIGEM DO | G33: VALORES
A34: DAS DESPESAS | D34: REALIZAÇÃO | F34: RECURSO | G34: APLICADOS
A35: RECURSOS HUMANOS | D35: =DADOS!B$29 -> dezembro | F35: Estadual | G35: =G103 -> 0
A36: MANUTENÇÃO - Utilidades públicas | D36: =DADOS!B$29 -> dezembro | F36: Estadual | G36: =G111 -> 0
A37: MANUTENÇÃO - Gêneros alimentícios | D37: =DADOS!B$29 -> dezembro | F37: Estadual | G37: =G126 -> 0
A38: MANUTENÇÃO - Mateirais de consumo | D38: =DADOS!B$29 -> dezembro | F38: Estadual | G38: =G138 -> 0
A39: MANUTENÇÃO - Combustível | D39: =DADOS!B$29 -> dezembro | F39: Estadual | G39: =G144 -> 0
A40: MANUTENÇÃO - Outras despesas | D40: =DADOS!B$29 -> dezembro | F40: Estadual | G40: =G153 -> 0
A41: TOTAL DAS DESPESAS | G41: =SUM(G35:G40) -> 0
A42: RECURSO PÚBLICO NÃO APLICADO | G42: =SUM(G26-G41) -> -18228
A43: VALOR DEVOLVIDO AO ORGÃO CONCESSOR
A44: VALOR AUTORIZADO PARA APLICAÇÃO NO EXERCICIO SEGUINTE | G44: =G42-G43 -> -18228
A45: Declaramos, na qualidade de responsáveis pela Entidade supra epigrafada, sob as penalidades da Lei, que as despesas relacionadas, examinadas pelo Conselho Fiscal, comprovam a exata aplicação dos recursos recebidos para os fins indicados através da conta corrente 003/00004496-0, agência 0278, para finalidade específica, conforme programa de trabalho aprovado, proposto ao Órgão Concessor.
B47: Americana,
A53: Membros do Conselho Fiscal
B57: =A4 -> DEMONSTRATIVO INTEGRAL DAS RECEITAS E DESPESAS
D58: =D5 -> EXERCÍCIO: | E58: =E5 -> 2025
A60: =A8 -> CONTRATANTE | D60: =D8 -> Prefeitura Municipal de Americana
...

Sheet parcela 10
A4: DEMONSTRATIVO INTEGRAL DAS RECEITAS E DESPESAS
D5: =DADOS!A5 -> EXERCÍCIO: | E5: =DADOS!C5 -> 2025
A8: =DADOS!A$8 -> CONTRATANTE | D8: =DADOS!D$8 -> Prefeitura Municipal de Americana
A9: =DADOS!A$9 -> CONTRATADA | D9: =DADOS!D$9 -> Associação Beneficente Residencial Evangélico Benaiah
A10: =DADOS!A$14 -> CNPJ: | D10: =DADOS!B$14 -> 43.266.758/0001-89
A11: =DADOS!A$10 -> ENDEREÇO | D11: =DADOS!D$10 -> Rua Benaiah, 290 - Terramérica - Americana/SP – CEP 13.468-824
A12: =DADOS!A$11 -> RESPONSAVEL PELA ORGANIZAÇÃO | D12: =DADOS!D$11 -> HELIO DE OLIVEIRA CAMARGO
A13: =DADOS!A$13 -> TERMO DE COLABORAÇÃO | D13: =DADOS!D13 -> 148/2025 | E13: =DADOS!E13 -> ADITAMENTO | F13: =DADOS!F13 -> 0
A16: PARCELA Nº | C16: 10
A17: DEMOSTRATICO DOS REPASSES PÚBLICOS RECEBIDOS
A18: ORIGEM DOS RECURSOS | C18: VALORES PREVISTOS - R$ | E18: DOC. DE CRÉDITO Nº | F18: DATA | G18: VALORES
G19: REPASSADOS -R$
A20: Estadual | D20: =DADOS!C30 -> 0
F24: RECEITA COM APLICAÇÕES FINANCEIRAS DOS REPASSES PÚBLICOS
F25: SALDO DE RECURSOS PÚBLICOS NÃO APLICADOS | G25: ='Parcela 9'!G44 -> -18228
F26: TOTAL | G26: =SUM(G20:G25) -> -18228
F27: RECURSOS PROPRIOS APLICADOS PELA ENTIDADE
A28: Os signatários, na qualidade de representantes da Associação Beneficente Residencial Evangélico Benaiah, vem indicar,
A29: na forma abaixo detalhada, a aplicação dos recursos recebidos no exercício supramencionado, na importância total de
A30: =SUM(G20:G23) -> 0 | B30: (nove mil, cento e sessenta reais), acrescidos do saldo de recursos não
A31: aplicados no valor de R$ | C31: =G25 -> -18228 | D31: ( reais)
A32: DEMONSTRATIVO DAS DESPESAS REALIZADAS
A33: CATEGORIA OU FINALIDADE | D33: PERIODO DE | F33: ORIGEM DO | G33: VALORES
A34: DAS DESPESAS | D34: REALIZAÇÃO | F34: RECURSO | G34: APLICADOS
A35: RECURSOS HUMANOS | D35: =DADOS!B$30 -> janeiro | F35: Estadual | G35: =G103 -> 0
A36: MANUTENÇÃO - Utilidades públicas | D36: =DADOS!B$30 -> janeiro | F36: Estadual | G36: =G111 -> 0
A37: MANUTENÇÃO - Gêneros alimentícios | D37: =DADOS!B$30 -> janeiro | F37: Estadual | G37: =G126 -> 0
A38: MANUTENÇÃO - Mateirais de consumo | D38: =DADOS!B$30 -> janeiro | F38: Estadual | G38: =G138 -> 0
A39: MANUTENÇÃO - Combustível | D39: =DADOS!B$30 -> janeiro | F39: Estadual | G39: =G144 -> 0
A40: MANUTENÇÃO - Outras despesas | D40: =DADOS!B$30 -> janeiro | F40: Estadual | G40: =G153 -> 0
A41: TOTAL DAS DESPESAS | G41: =SUM(G35:G40) -> 0
A42: RECURSO PÚBLICO NÃO APLICADO | G42: =SUM(G26-G41) -> -18228
A43: VALOR DEVOLVIDO AO ORGÃO CONCESSOR
A44: VALOR AUTORIZADO PARA APLICAÇÃO NO EXERCICIO SEGUINTE | G44: =G42-G43 -> -18228
A45: Declaramos, na qualidade de responsáveis pela Entidade supra epigrafada, sob as penalidades da Lei, que as despesas relacionadas, examinadas pelo Conselho Fiscal, comprovam a exata aplicação dos recursos recebidos para os fins indicados através da conta corrente 003/00004496-0, agência 0278, para finalidade específica, conforme programa de trabalho aprovado, proposto ao Órgão Concessor.
B47: Americana,
A53: Membros do Conselho Fiscal
B57: =A4 -> DEMONSTRATIVO INTEGRAL DAS RECEITAS E DESPESAS
D58: =D5 -> EXERCÍCIO: | E58: =E5 -> 2025
A60: =A8 -> CONTRATANTE | D60: =D8 -> Prefeitura Municipal de Americana
...

Sheet Parcela 11
A4: DEMONSTRATIVO INTEGRAL DAS RECEITAS E DESPESAS
D5: =DADOS!A5 -> EXERCÍCIO: | E5: =DADOS!C5 -> 2025
A8: =DADOS!A$8 -> CONTRATANTE | D8: =DADOS!D$8 -> Prefeitura Municipal de Americana
A9: =DADOS!A$9 -> CONTRATADA | D9: =DADOS!D$9 -> Associação Beneficente Residencial Evangélico Benaiah
A10: =DADOS!A$14 -> CNPJ: | D10: =DADOS!B$14 -> 43.266.758/0001-89
A11: =DADOS!A$10 -> ENDEREÇO | D11: =DADOS!D$10 -> Rua Benaiah, 290 - Terramérica - Americana/SP – CEP 13.468-824
A12: =DADOS!A$11 -> RESPONSAVEL PELA ORGANIZAÇÃO | D12: =DADOS!D$11 -> HELIO DE OLIVEIRA CAMARGO
A13: =DADOS!A$13 -> TERMO DE COLABORAÇÃO | D13: =DADOS!D13 -> 148/2025 | E13: =DADOS!E13 -> ADITAMENTO | F13: =DADOS!F13 -> 0
A16: PARCELA Nº | C16: 11
A17: DEMOSTRATICO DOS REPASSES PÚBLICOS RECEBIDOS
A18: ORIGEM DOS RECURSOS | C18: VALORES PREVISTOS - R$ | E18: DOC. DE CRÉDITO Nº | F18: DATA | G18: VALORES
G19: REPASSADOS -R$
A20: Estadual | D20: =DADOS!C31 -> 0
F24: RECEITA COM APLICAÇÕES FINANCEIRAS DOS REPASSES PÚBLICOS
F25: SALDO DE RECURSOS PÚBLICOS NÃO APLICADOS | G25: ='parcela 10'!G44 -> -18228
F26: TOTAL | G26: =SUM(G20:G25) -> -18228
F27: RECURSOS PROPRIOS APLICADOS PELA ENTIDADE
A28: Os signatários, na qualidade de representantes da Associação Beneficente Residencial Evangélico Benaiah, vem indicar,
A29: na forma abaixo detalhada, a aplicação dos recursos recebidos no exercício supramencionado, na importância total de
A30: =SUM(G20:G23) -> 0 | B30: (nove mil, cento e sessenta reais), acrescidos do saldo de recursos não
A31: aplicados no valor de R$ | C31: =G25 -> -18228 | D31: ( reais)
A32: DEMONSTRATIVO DAS DESPESAS REALIZADAS
A33: CATEGORIA OU FINALIDADE | D33: PERIODO DE | F33: ORIGEM DO | G33: VALORES
A34: DAS DESPESAS | D34: REALIZAÇÃO | F34: RECURSO | G34: APLICADOS
A35: RECURSOS HUMANOS | D35: =DADOS!B$31 -> fevereiro | F35: Estadual | G35: =G103 -> 0
A36: MANUTENÇÃO - Utilidades públicas | D36: =DADOS!B$31 -> fevereiro | F36: Estadual | G36: =G111 -> 0
A37: MANUTENÇÃO - Gêneros alimentícios | D37: =DADOS!B$31 -> fevereiro | F37: Estadual | G37: =G126 -> 0
A38: MANUTENÇÃO - Mateirais de consumo | D38: =DADOS!B$31 -> fevereiro | F38: Estadual | G38: =G138 -> 0
A39: MANUTENÇÃO - Combustível | D39: =DADOS!B$31 -> fevereiro | F39: Estadual | G39: =G144 -> 0
A40: MANUTENÇÃO - Outras despesas | D40: =DADOS!B$31 -> fevereiro | F40: Estadual | G40: =G153 -> 0
A41: TOTAL DAS DESPESAS | G41: =SUM(G35:G40) -> 0
A42: RECURSO PÚBLICO NÃO APLICADO | G42: =SUM(G26-G41) -> -18228
A43: VALOR DEVOLVIDO AO ORGÃO CONCESSOR
A44: VALOR AUTORIZADO PARA APLICAÇÃO NO EXERCICIO SEGUINTE | G44: =G42-G43 -> -18228
A45: Declaramos, na qualidade de responsáveis pela Entidade supra epigrafada, sob as penalidades da Lei, que as despesas relacionadas, examinadas pelo Conselho Fiscal, comprovam a exata aplicação dos recursos recebidos para os fins indicados através da conta corrente 003/00004496-0, agência 0278, para finalidade específica, conforme programa de trabalho aprovado, proposto ao Órgão Concessor.
B47: Americana, | C47: helenira
A53: Membros do Conselho Fiscal
B57: =A4 -> DEMONSTRATIVO INTEGRAL DAS RECEITAS E DESPESAS
D58: =D5 -> EXERCÍCIO: | E58: =E5 -> 2025
A60: =A8 -> CONTRATANTE | D60: =D8 -> Prefeitura Municipal de Americana
...

Sheet Parcela 12
A4: DEMONSTRATIVO INTEGRAL DAS RECEITAS E DESPESAS
D5: =DADOS!A5 -> EXERCÍCIO: | E5: =DADOS!C5 -> 2025
A8: =DADOS!A$8 -> CONTRATANTE | D8: =DADOS!D$8 -> Prefeitura Municipal de Americana
A9: =DADOS!A$9 -> CONTRATADA | D9: =DADOS!D$9 -> Associação Beneficente Residencial Evangélico Benaiah
A10: =DADOS!A$14 -> CNPJ: | D10: =DADOS!B$14 -> 43.266.758/0001-89
A11: =DADOS!A$10 -> ENDEREÇO | D11: =DADOS!D$10 -> Rua Benaiah, 290 - Terramérica - Americana/SP – CEP 13.468-824
A12: =DADOS!A$11 -> RESPONSAVEL PELA ORGANIZAÇÃO | D12: =DADOS!D$11 -> HELIO DE OLIVEIRA CAMARGO
A13: =DADOS!A$13 -> TERMO DE COLABORAÇÃO | D13: =DADOS!D13 -> 148/2025 | E13: =DADOS!E13 -> ADITAMENTO | F13: =DADOS!F13 -> 0
A16: PARCELA Nº | C16: 12
A17: DEMOSTRATICO DOS REPASSES PÚBLICOS RECEBIDOS
A18: ORIGEM DOS RECURSOS | C18: VALORES PREVISTOS - R$ | E18: DOC. DE CRÉDITO Nº | F18: DATA | G18: VALORES
G19: REPASSADOS -R$
A20: Estadual | D20: =DADOS!C32 -> 0
F24: RECEITA COM APLICAÇÕES FINANCEIRAS DOS REPASSES PÚBLICOS
F25: SALDO DE RECURSOS PÚBLICOS NÃO APLICADOS | G25: ='Parcela 11'!G44 -> -18228
F26: TOTAL | G26: =SUM(G20:G25) -> -18228
F27: RECURSOS PROPRIOS APLICADOS PELA ENTIDADE
A28: Os signatários, na qualidade de representantes da Associação Beneficente Residencial Evangélico Benaiah, vem indicar,
A29: na forma abaixo detalhada, a aplicação dos recursos recebidos no exercício supramencionado, na importância total de
A30: =SUM(G20:G23) -> 0 | B30: (nove mil, duzentos e quarenta reais), acrescidos do saldo de recursos não
A31: aplicados no valor de R$ | C31: =G25 -> -18228 | D31: ( reais)
A32: DEMONSTRATIVO DAS DESPESAS REALIZADAS
A33: CATEGORIA OU FINALIDADE | D33: PERIODO DE | F33: ORIGEM DO | G33: VALORES
A34: DAS DESPESAS | D34: REALIZAÇÃO | F34: RECURSO | G34: APLICADOS
A35: RECURSOS HUMANOS | D35: =DADOS!B$32 -> março | F35: Estadual | G35: =G103 -> 0
A36: MANUTENÇÃO - Utilidades públicas | D36: =DADOS!B$32 -> março | F36: Estadual | G36: =G111 -> 0
A37: MANUTENÇÃO - Gêneros alimentícios | D37: =DADOS!B$32 -> março | F37: Estadual | G37: =G126 -> 0
A38: MANUTENÇÃO - Mateirais de consumo | D38: =DADOS!B$32 -> março | F38: Estadual | G38: =G138 -> 0
A39: MANUTENÇÃO - Combustível | D39: =DADOS!B$32 -> março | F39: Estadual | G39: =G144 -> 0
A40: MANUTENÇÃO - Outras despesas | D40: =DADOS!B$32 -> março | F40: Estadual | G40: =G153 -> 0
A41: TOTAL DAS DESPESAS | G41: =SUM(G35:G40) -> 0
A42: RECURSO PÚBLICO NÃO APLICADO | G42: =SUM(G26-G41) -> -18228
A43: VALOR DEVOLVIDO AO ORGÃO CONCESSOR
A44: VALOR AUTORIZADO PARA APLICAÇÃO NO EXERCICIO SEGUINTE | G44: =G42-G43 -> -18228
A45: Declaramos, na qualidade de responsáveis pela Entidade supra epigrafada, sob as penalidades da Lei, que as despesas relacionadas, examinadas pelo Conselho Fiscal, comprovam a exata aplicação dos recursos recebidos para os fins indicados através da conta corrente 003/00004496-0, agência 0278, para finalidade específica, conforme programa de trabalho aprovado, proposto ao Órgão Concessor.
B47: Americana,
A53: Membros do Conselho Fiscal
B57: =A4 -> DEMONSTRATIVO INTEGRAL DAS RECEITAS E DESPESAS
D58: =D5 -> EXERCÍCIO: | E58: =E5 -> 2025
A60: =A8 -> CONTRATANTE | D60: =D8 -> Prefeitura Municipal de Americana
...

Sheet GLOBAL
A4: DEMONSTRATIVO INTEGRAL DAS RECEITAS E DESPESAS
C5: =DADOS!A5 -> EXERCÍCIO: | D5: =DADOS!C5 -> 2025
A8: =DADOS!A$8 -> CONTRATANTE | C8: =DADOS!D$8 -> Prefeitura Municipal de Americana
A9: =DADOS!A$9 -> CONTRATADA | C9: =DADOS!D$9 -> Associação Beneficente Residencial Evangélico Benaiah
A10: =DADOS!A$14 -> CNPJ: | C10: =DADOS!B$14 -> 43.266.758/0001-89
A11: =DADOS!A$10 -> ENDEREÇO | C11: =DADOS!D$10 -> Rua Benaiah, 290 - Terramérica - Americana/SP – CEP 13.468-824
A12: =DADOS!A$11 -> RESPONSAVEL PELA ORGANIZAÇÃO | C12: =DADOS!D$11 -> HELIO DE OLIVEIRA CAMARGO
A13: =DADOS!A$13 -> TERMO DE COLABORAÇÃO | C13: =DADOS!D13 -> 148/2025 | D13: =DADOS!E13 -> ADITAMENTO | E13: =DADOS!F13 -> 0
A15: GLOBAL - Estadual
A17: DEMOSTRATICO DOS REPASSES PÚBLICOS RECEBIDOS
A18: PARCELAS | B18: ORIGEM DOS RECURSOS | C18: VALORES PREVISTOS | D18: DOC. DE CRÉDITO Nº | E18: DATA | F18: VALORES
F19: REPASSADOS -R$
A20: 1ª | B20: ='Parcela 1'!A$20 -> Estadual | C20: ='Parcela 1'!D$20 -> 18228 | D20: ='Parcela 1'!E$20 -> 000001 | E20: ='Parcela 1'!F$20 -> 45772 | F20: ='Parcela 1'!G$20 -> 18228
A21: 2ª | B21: ='Parcela 2'!A$20 -> Estadual | C21: ='Parcela 2'!D$20 -> 18228 | D21: ='Parcela 2'!E$20 -> 000001 | E21: ='Parcela 2'!F$20 -> 45800 | F21: ='Parcela 2'!G$20 -> 18228
A22: 3ª | B22: ='Parcela 3'!A$20 -> Estadual | C22: ='Parcela 3'!D$20 -> 18228 | D22: ='Parcela 3'!E$20 -> 000001 | E22: ='Parcela 3'!F$20 -> 45833 | F22: ='Parcela 3'!G$20 -> 18228
A23: 4ª | B23: ='Parcela 4'!A$20 -> Estadual | C23: ='Parcela 4'!D$20 -> 18228 | D23: ='Parcela 4'!E$20 -> 0 | E23: ='Parcela 4'!F$20 -> 0 | F23: ='Parcela 4'!G$20 -> 0
A24: 5ª | B24: ='Parcela 5'!A$20 -> Estadual | C24: ='Parcela 5'!D$20 -> 18228 | D24: ='Parcela 5'!E$20 -> 0 | E24: ='Parcela 5'!F$20 -> 0 | F24: ='Parcela 5'!G$20 -> 0
A25: 6ª | B25: ='Parcela 6'!A$20 -> Estadual | C25: ='Parcela 6'!D$20 -> 18228 | D25: ='Parcela 6'!E$20 -> 0 | E25: ='Parcela 6'!F$20 -> 0 | F25: ='Parcela 6'!G$20 -> 0
A26: 7ª | B26: ='Parcela 7'!A$20 -> Estadual | C26: ='Parcela 7'!D$20 -> 18228 | D26: ='Parcela 7'!E$20 -> 0 | E26: ='Parcela 7'!F$20 -> 0 | F26: ='Parcela 7'!G$20 -> 0
A27: 8ª | B27: ='Parcela 8'!A$20 -> Estadual | C27: ='Parcela 8'!D$20 -> 18228 | D27: ='Parcela 8'!E$20 -> 0 | E27: ='Parcela 8'!F$20 -> 0 | F27: ='Parcela 8'!G$20 -> 0
A28: 9ª | B28: ='Parcela 9'!A$20 -> Estadual | C28: ='Parcela 9'!D$20 -> 18228 | D28: ='Parcela 9'!E$20 -> 0 | E28: ='Parcela 9'!F$20 -> 0 | F28: ='Parcela 9'!G$20 -> 0
A29: 10ª | B29: ='parcela 10'!A$20 -> Estadual | C29: ='parcela 10'!D$20 -> 0 | D29: ='parcela 10'!E$20 -> 0 | E29: ='parcela 10'!F$20 -> 0 | F29: ='parcela 10'!G$20 -> 0
A30: 11ª | B30: ='Parcela 11'!A$20 -> Estadual | C30: ='Parcela 11'!D$20 -> 0 | D30: ='Parcela 11'!E$20 -> 0 | E30: ='Parcela 11'!F$20 -> 0 | F30: ='Parcela 11'!G$20 -> 0
A31: 12ª | B31: ='Parcela 12'!A$20 -> Estadual | C31: ='Parcela 12'!D$20 -> 0 | D31: ='Parcela 12'!E$20 -> 0 | E31: ='Parcela 12'!F$20 -> 0 | F31: ='Parcela 12'!G$20 -> 0
E32: RECEITA COM APLICAÇÕES FINANCEIRAS DOS REPASSES PÚBLICOS
E33: TOTAL | F33: =SUM(F20:F32) -> 54684
E34: RECURSOS PROPRIOS APLICADOS PELA ENTIDADE
A36: Os signatários, na qualidade de representantes da Associação Beneficente Residencial Evangélico Benaiah, vem indicar,
A37: na forma abaixo detalhada, a aplicação dos recursos recebidos no exercício supramencionado, na importância total de
A38: =F33 -> 54684 | B38: (cento e sessenta e quatro mil, duzentos e quinze reais e sessenta centavos).
A40: DEMONSTRATIVO DAS DESPESAS REALIZADAS
A41: CATEGORIA OU FINALIDADE | D41: PERIODO DE | E41: ORIGEM DO | F41: VALORES
A42: DAS DESPESAS | D42: REALIZAÇÃO | E42: RECURSO | F42: APLICADOS
A43: =DADOS!D19 -> RECURSOS HUMANOS | D43: abril a dezembro | E43: Estadual | F43: =F126 -> 72912
A44: TOTAL DAS DESPESAS | F44: =SUM(F43:F43) -> 72912
A45: RECURSO PÚBLICO NÃO APLICADO | F45: 0
A46: VALOR DEVOLVIDO AO ORGÃO CONCESSOR | F46: 0
A47: VALOR AUTORIZADO PARA APLICAÇÃO NO EXERCICIO SEGUINTE | F47: =F45-F46 -> 0
A48: Declaramos, na qualidade de responsáveis pela Entidade supra epigrafada, sob as penalidades da Lei, que as despesas relacionadas, examinadas pelo Conselho Fiscal, comprovam a exata aplicação dos recursos recebidos para os fins indicados através da conta corrente 003/00004496-0, agência 0278, para finalidade específica, conforme programa de trabalho aprovado, proposto ao Órgão Concessor.
B50: Americana,
...
