Workbook

Sheet CAPA
A3: MEMÓRIA DE CÁLCULO - PLANO DE TRABALHO 2025
C4: Execução do serviço
A5: IDENTIFICAÇÃO DA ORGANIZAÇÃO
A6: Razão Social | B6: Associação Beneficente Residencial Evangelico Benaiah
A7: Sigla
A9: NOME DA OFERTA SOCIOASSISTENCIAL
A10: Serviço de acolhimento ao Idoso
A12: PROTOCOLO DE RECEBIMENTO
A13: Data | C13: Nome | D13: Assinatura

Sheet RH
A3: MEMÓRIA DE CÁLCULO I - RECURSOS HUMANOS
A5: PERÍODO: (6 meses) | G5: RATEIO MENSAL | I5: ENCARGOS PATRONAIS | N5: BENEFÍCIOS | P5: TOTAL
A6: FUNÇÃO | B6: CARGA HORÁRIA | C6: SALÁRIO BRUTO | D6: SALÁRIO LÍQUIDO | E6: QTDE | F6: SALÁRIO TOTAL | G6: FÉRIAS | H6: 13º SALÁRIO | I6: FGTS TOTAL (8%) | J6: INSS TOTAL (20%) | K6: IRRF | L6: PIS TOTAL (1%) | M6: Vale Refeição | N6: CESTA BÁSICA (R$ 380,00) | O6: AUXÍLIO TRANSPORTE (MÉDIA DE R$ 100,00) | P6: CUSTO MENSAL | Q6: CUSTO TOTAL
A7: Coordenadora | B7: 40hs | D7: 6600 | E7: 1 | F7: 6600 | G7: =((F7*0.33)+F7)/9 -> 975.33333 | H7: 0 | I7: =SUM(F7*1.5)*0.08 -> 792 | J7: 250.103 | L7: 0 | N7: 380 | O7: 0 | P7: =SUM(F7:O7) -> 8997.4363 | Q7: =P7*6 -> 53984.618
A8: Assistente Social | B8: 30hs | D8: 4480 | E8: 1 | F8: 4480 | G8: =((F8*0.33)+F8)/9 -> 662.04444 | H8: 0 | I8: =SUM(F8*1.5)*0.08 -> 537.6 | J8: 195 | L8: 0 | N8: 380 | O8: 0 | P8: =SUM(F8:O8) -> 6254.6444 | Q8: =P8*6 -> 37527.867
A9: Psicologa | B9: 30hs | D9: 4480 | E9: 1 | F9: 4480 | G9: =((F9*0.33)+F9)/9 -> 662.04444 | H9: 0 | I9: =SUM(F9*1.5)*0.08 -> 537.6 | J9: 195 | L9: 0 | N9: 380 | O9: 0 | P9: =SUM(F9:O9) -> 6254.6444 | Q9: =P9*6 -> 37527.867
A10: Enfermeira Padrão | B10: 30hs | D10: 4480 | E10: 1 | F10: 4480 | G10: =((F10*0.33)+F10)/9 -> 662.04444 | H10: 0 | I10: =SUM(F10*1.5)*0.08 -> 537.6 | J10: 195 | L10: 0 | N10: 380 | O10: 0 | P10: =SUM(F10:O10) -> 6254.6444 | Q10: =P10*6 -> 37527.867
A11: Nutricionista | B11: 30hs | D11: 4480 | E11: 1 | F11: 4480 | G11: =((F11*0.33)+F11)/9 -> 662.04444 | H11: 0 | I11: =SUM(F11*1.5)*0.08 -> 537.6 | J11: 195 | L11: 0 | N11: 380 | O11: 0 | P11: =SUM(F11:O11) -> 6254.6444 | Q11: =P11*6 -> 37527.867
A12: Terapeuta Ocupacional | B12: 30hs | D12: 4480 | E12: 1 | F12: 4480 | G12: =((F12*0.33)+F12)/9 -> 662.04444 | H12: 0 | I12: =SUM(F12*1.5)*0.08 -> 537.6 | J12: 200 | L12: 0 | N12: 380 | O12: 0 | P12: =SUM(F12:O12) -> 6259.6444 | Q12: =P12*6 -> 37557.867
A13: Anallista financeiro | B13: 40hs | D13: 4010 | E13: 1 | F13: 4010 | G13: =((F13*0.33)+F13)/9 -> 592.58889 | H13: 0 | I13: =SUM(F13*1.5)*0.08 -> 481.2 | J13: 180 | L13: 0 | N13: 380 | O13: 0 | P13: =SUM(F13:O13) -> 5643.7889 | Q13: =P13*6 -> 33862.733
A14: Recepcionista | B14: 44hs | D14: 2605 | E14: 1 | F14: 2605 | G14: =((F14*0.33)+F14)/9 -> 384.96111 | H14: 0 | I14: =SUM(F14*1.5)*0.08 -> 312.6 | J14: 120 | L14: 0 | N14: 380 | O14: 0 | P14: =SUM(F14:O14) -> 3802.5611 | Q14: =P14*6 -> 22815.367
A15: Aux. Enf/cuidador | B15: 12x36 | D15: 2780 | E15: 11 | F15: 30580 | G15: =((F15*0.33)+F15)/9 -> 4519.0444 | H15: 0 | I15: =SUM(F15*1.5)*0.08 -> 3669.6 | J15: 1660 | L15: 0 | N15: 4560 | O15: 0 | P15: =SUM(F15:O15) -> 44988.644 | Q15: =P15*6 -> 269931.87
A16: Cozinheira/serv. Gerais | B16: 12x36 | D16: 2505 | E16: 12 | F16: 30060 | G16: =((F16*0.33)+F16)/9 -> 4442.2 | H16: 0 | I16: =SUM(F16*1.5)*0.08 -> 3607.2 | J16: 1700 | L16: 0 | N16: 4180 | O16: 0 | P16: =SUM(F16:O16) -> 43989.4 | Q16: =P16*6 -> 263936.4
A17: TOTAL | F17: =SUM(F7:F16) -> 96255 | G17: =SUM(G7:G16) -> 14224.35 | H17: 0 | I17: =SUM(I7:I16) -> 11550.6 | J17: =SUM(J7:J16) -> 4890.103 | L17: 0 | N17: =SUM(N7:N16) -> 11780 | O17: =SUM(O7:O16) -> 0 | P17: =SUM(P7:P16) -> 138700.05 | Q17: =SUM(Q7:Q16) -> 832200.32
A18: TOTAL | C18: =C17*6 -> 0 | D18: 0 | F18: =F17*6 -> 577530 | G18: =G17*6 -> 85346.1 | H18: =H17*6 -> 0 | I18: =I17*6 -> 69303.6 | J18: =J17*6 -> 29340.618 | L18: =L17*6 -> 0 | N18: =N17*6 -> 70680 | O18: =O17*6 -> 0 | P18: =P17*6 -> 832200.32
A20: PERÍODO: (6 meses) | G20: RATEIO MENSAL | I20: ENCARGOS PATRONAIS | N20: BENEFÍCIOS | P20: TOTAL
A21: FUNÇÃO | B21: CARGA HORÁRIA | D21: SALÁRIO + DISSÍDIO (5%) | E21: QTDE | F21: SALÁRIO TOTAL | G21: FÉRIAS | H21: 13º SALÁRIO | I21: FGTS TOTAL (8%) | J21: INSS TOTAL (20%) | K21: IRRF | L21: PIS TOTAL (1%) | M21: Vale Refeição | N21: CESTA BÁSICA (R$ 90,00) | O21: AUXÍLIO TRANSPORTE (MÉDIA DE R$ 100,00) | P21: CUSTO MENSAL | Q21: CUSTO TOTAL
A22: Coordenadora | B22: 40hs | D22: =(D7*0.05)+D7 -> 6930 | E22: 1 | F22: =D22*E22 -> 6930 | G22: =((F22*0.33)+F22)/9 -> 1024.1 | H22: 0 | I22: =SUM(F22*1.5)*0.08 -> 831.6 | J22: 343 | L22: 0 | N22: 400 | O22: 0 | P22: =SUM(F22:O22) -> 9528.7 | Q22: =P22*6 -> 57172.2
A23: Assistente Social | B23: 30hs | D23: =(D8*0.05)+D8 -> 4704 | E23: 1 | F23: =D23*E23 -> 4704 | G23: =((F23*0.33)+F23)/9 -> 695.14667 | H23: 0 | I23: =SUM(F23*1.5)*0.08 -> 564.48 | J23: 245 | L23: 0 | N23: 400 | O23: 0 | P23: =SUM(F23:O23) -> 6608.6267 | Q23: =P23*6 -> 39651.76
A24: Psicologa | B24: 30hs | D24: =(D9*0.05)+D9 -> 4704 | E24: 1 | F24: =D24*E24 -> 4704 | G24: =((F24*0.33)+F24)/9 -> 695.14667 | H24: 0 | I24: =SUM(F24*1.5)*0.08 -> 564.48 | J24: 245 | L24: 0 | N24: 400 | O24: 0 | P24: =SUM(F24:O24) -> 6608.6267 | Q24: =P24*6 -> 39651.76
A25: Enfermeira Padrão | B25: 30hs | D25: =(D10*0.05)+D10 -> 4704 | E25: 1 | F25: =D25*E25 -> 4704 | G25: =((F25*0.33)+F25)/9 -> 695.14667 | H25: 0 | I25: =SUM(F25*1.5)*0.08 -> 564.48 | J25: 245 | L25: 0 | N25: 400 | O25: 0 | P25: =SUM(F25:O25) -> 6608.6267 | Q25: =P25*6 -> 39651.76
A26: Nutricionista | B26: 30hs | D26: =(D11*0.05)+D11 -> 4704 | E26: 1 | F26: =D26*E26 -> 4704 | G26: =((F26*0.33)+F26)/9 -> 695.14667 | H26: 0 | I26: =SUM(F26*1.5)*0.08 -> 564.48 | J26: 245 | L26: 0 | N26: 400 | O26: 0 | P26: =SUM(F26:O26) -> 6608.6267 | Q26: =P26*6 -> 39651.76
A27: Terapeuta Ocupacional | B27: 30hs | D27: =(D12*0.05)+D12 -> 4704 | E27: 1 | F27: =D27*E27 -> 4704 | G27: =((F27*0.33)+F27)/9 -> 695.14667 | H27: 0 | I27: =SUM(F27*1.5)*0.08 -> 564.48 | J27: 245 | L27: 0 | N27: 400 | O27: 0 | P27: =SUM(F27:O27) -> 6608.6267 | Q27: =P27*6 -> 39651.76
A28: Anallista financeiro | B28: 40hs | D28: =(D13*0.05)+D13 -> 4210.5 | E28: 1 | F28: =D28*E28 -> 4210.5 | G28: =((F28*0.33)+F28)/9 -> 622.21833 | H28: 0 | I28: =SUM(F28*1.5)*0.08 -> 505.26 | J28: 215 | L28: 0 | N28: 400 | O28: 0 | P28: =SUM(F28:O28) -> 5952.9783 | Q28: =P28*6 -> 35717.87
A29: Recepcionista | B29: 44hs | D29: =(D14*0.05)+D14 -> 2735.25 | E29: 1 | F29: =D29*E29 -> 2735.25 | G29: =((F29*0.33)+F29)/9 -> 404.20917 | H29: 0 | I29: =SUM(F29*1.5)*0.08 -> 328.23 | J29: 183 | L29: 0 | N29: 400 | O29: 0 | P29: =SUM(F29:O29) -> 4050.6892 | Q29: =P29*6 -> 24304.135
A30: Aux. Enf/cuidador | B30: 12x36 | D30: =(D15*0.05)+D15 -> 2919 | E30: 11 | F30: =D30*E30 -> 32109 | G30: =((F30*0.33)+F30)/9 -> 4744.9967 | H30: 0 | I30: =SUM(F30*1.5)*0.08 -> 3853.08 | J30: 1884 | L30: 0 | N30: 4400 | O30: 0 | P30: =SUM(F30:O30) -> 46991.077 | Q30: =P30*6 -> 281946.46
A31: Cozinheira/serv. Gerais | B31: 12x36 | D31: =(D16*0.05)+D16 -> 2630.25 | E31: 12 | F31: =D31*E31 -> 31563 | G31: =((F31*0.33)+F31)/9 -> 4664.31 | H31: 0 | I31: =SUM(F31*1.5)*0.08 -> 3787.56 | J31: 1826 | L31: 0 | N31: 4800 | O31: 0 | P31: =SUM(F31:O31) -> 46640.87 | Q31: =P31*6 -> 279845.22
A32: TOTAL | D32: =SUM(D22:D31) -> 42945 | F32: =SUM(F22:F31) -> 101067.75 | G32: =SUM(G22:G31) -> 14935.568 | H32: 0 | I32: =SUM(I22:I31) -> 12128.13 | J32: =SUM(J22:J31) -> 5676 | L32: =SUM(L22:L31) -> 0 | N32: =SUM(N22:N31) -> 12400 | O32: =SUM(O22:O31) -> 0 | P32: =SUM(P22:P31) -> 146207.45 | Q32: =SUM(Q22:Q31) -> 877244.69
A33: TOTAL | D33: =D32*6 -> 257670 | F33: =F32*6 -> 606406.5 | G33: =G32*6 -> 89613.405 | H33: =H32*6 -> 0 | I33: =I32*6 -> 72768.78 | J33: =J32*6 -> 34056 | L33: =L32*6 -> 0 | N33: =N32*6 -> 74400 | O33: =O32*6 -> 0 | P33: =P32*6 -> 877244.68
A35: SOMATÓRI0
A36: PERÍODO: (12 meses) | G36: RATEIO | I36: ENCARGOS PATRONAIS | N36: BENEFÍCIOS | P36: TOTAL
A37: FUNÇÃO | B37: CARGA HORÁRIA | C37: SALÁRIO BRUTO | D37: SALÁRIO LÍQUIDO | E37: QTDE | F37: SALÁRIO TOTAL | G37: FÉRIAS | H37: 13º SALÁRIO | I37: FGTS TOTAL (8%) | J37: INSS TOTAL (20%) | K37: IRRF | L37: PIS TOTAL (1%) | M37: Vale Refeição | N37: CESTA BÁSICA (R$ 90,00) | O37: AUXÍLIO TRANSPORTE (MÉDIA DE R$ 100,00) | P37: CUSTO TOTAL
C38: 0 | D38: 13530 | E38: 1 | F38: =(F7*6)+(F22*6) -> 81180 | G38: =(G7*6)+(G22*6) -> 11996.6 | H38: =(H7*6)+(H22*6) -> 0 | I38: =(I7*6)+(I22*6) -> 9741.6 | J38: =(J7*6)+(J22*6) -> 3558.618 | L38: =(L7*6)+(L22*6) -> 0 | N38: =(N7*6)+(N22*6) -> 4680 | O38: =(O7*6)+(O22*6) -> 0 | P38: =Q7+Q22 -> 111156.82
C39: 0 | D39: 9184 | E39: 1 | F39: =(F8*6)+(F23*6) -> 55104 | G39: =(G8*6)+(G23*6) -> 8143.1467 | H39: =(H8*6)+(H23*6) -> 0 | I39: =(I8*6)+(I23*6) -> 6612.48 | J39: =(J8*6)+(J23*6) -> 2640 | L39: =(L8*6)+(L23*6) -> 0 | N39: =(N8*6)+(N23*6) -> 4680 | O39: =(O8*6)+(O23*6) -> 0 | P39: =Q8+Q23 -> 77179.627
C40: 0 | D40: 9184 | E40: 1 | F40: =(F9*6)+(F24*6) -> 55104 | G40: =(G9*6)+(G24*6) -> 8143.1467 | H40: =(H9*6)+(H24*6) -> 0 | I40: =(I9*6)+(I24*6) -> 6612.48 | J40: =(J9*6)+(J24*6) -> 2640 | L40: =(L9*6)+(L24*6) -> 0 | N40: =(N9*6)+(N24*6) -> 4680 | O40: =(O9*6)+(O24*6) -> 0 | P40: =Q9+Q24 -> 77179.627
C41: 0 | D41: 9184 | E41: 1 | F41: =(F10*6)+(F25*6) -> 55104 | G41: =(G10*6)+(G25*6) -> 8143.1467 | H41: =(H10*6)+(H25*6) -> 0 | I41: =(I10*6)+(I25*6) -> 6612.48 | J41: =(J10*6)+(J25*6) -> 2640 | L41: =(L10*6)+(L25*6) -> 0 | N41: =(N10*6)+(N25*6) -> 4680 | O41: =(O10*6)+(O25*6) -> 0 | P41: =Q10+Q25 -> 77179.627
C42: 0 | D42: 9184 | E42: 1 | F42: =(F11*6)+(F26*6) -> 55104 | G42: =(G11*6)+(G26*6) -> 8143.1467 | H42: =(H11*6)+(H26*6) -> 0 | I42: =(I11*6)+(I26*6) -> 6612.48 | J42: =(J11*6)+(J26*6) -> 2640 | L42: =(L11*6)+(L26*6) -> 0 | N42: =(N11*6)+(N26*6) -> 4680 | O42: =(O11*6)+(O26*6) -> 0 | P42: =Q11+Q26 -> 77179.627
C43: 0 | D43: 9184 | E43: 1 | F43: =(F12*6)+(F27*6) -> 55104 | G43: =(G12*6)+(G27*6) -> 8143.1467 | H43: =(H12*6)+(H27*6) -> 0 | I43: =(I12*6)+(I27*6) -> 6612.48 | J43: =(J12*6)+(J27*6) -> 2670 | L43: =(L12*6)+(L27*6) -> 0 | N43: =(N12*6)+(N27*6) -> 4680 | O43: =(O12*6)+(O27*6) -> 0 | P43: =Q12+Q27 -> 77209.627
C44: 0 | D44: 8220.5 | E44: 1 | F44: =(F13*6)+(F28*6) -> 49323 | G44: =(G13*6)+(G28*6) -> 7288.8433 | H44: =(H8*6)+(H28*6) -> 0 | I44: =(I13*6)+(I28*6) -> 5918.76 | J44: =(J13*6)+(J28*6) -> 2370 | L44: =(L8*6)+(L28*6) -> 0 | N44: =(N8*6)+(N28*6) -> 4680 | O44: =(O8*6)+(O28*6) -> 0 | P44: =Q13+Q28 -> 69580.603
C45: 0 | D45: 5340.25 | E45: 1 | F45: =(F14*6)+(F29*6) -> 32041.5 | G45: =(G14*6)+(G29*6) -> 4735.0217 | H45: =(H14*6)+(H29*6) -> 0 | I45: =(I14*6)+(I29*6) -> 3844.98 | J45: =(J14*6)+(J29*6) -> 1818 | L45: =(L14*6)+(L29*6) -> 0 | N45: =(N14*6)+(N29*6) -> 4680 | O45: =(O14*6)+(O29*6) -> 0 | P45: =Q14+Q29 -> 47119.502
...

Sheet OUTRAS CATEGORIAS
A3: MEMÓRIA DE CÁLCULO II - OUTRAS CATEGORIAS
A5: NATUREZA DA DESPESA | B5: DESCRIÇÃO | C5: VALORES
C6: Média Mensal | D6: Total Anual
A7: Bens e Materiais Permanentes | B7: Móveis (descrever o item) | D7: =C7*12 -> 0
B8: Equipamentos de Informática (descrever o item) | D8: =C8*12 -> 0
B9: Eletro - Eletronicos | D9: =C9*12 -> 0
B10: Eletrodomesticos | D10: =C10*12 -> 0
D11: =C11*12 -> 0
D12: =C12*12 -> 0
A13: TOTAL | C13: =SUM(C7:C12) -> 0 | D13: =SUM(D7:D12) -> 0
A15: NATUREZA DA DESPESA | B15: DESCRIÇÃO | C15: VALORES
C16: Média Mensal | D16: Total Anual
A17: Gêneros Alimentícios | B17: Alimentos / Agua Potave l (galão) | D17: =C17*12 -> 0
D18: =C18*12 -> 0
D19: =C19*12 -> 0
D20: =C20*12 -> 0
D21: =C21*12 -> 0
A22: TOTAL | C22: =SUM(C17:C21) -> 0 | D22: =SUM(D17:D21) -> 0
A24: NATUREZA DA DESPESA | B24: DESCRIÇÃO | C24: VALORES
C25: Média Mensal | D25: Total Anual
A26: Locações | B26: Locação de Equipamentos de Informática | D26: =C26*12 -> 0
B27: Locação de Equipamentos de Segurança e Monitoramento | D27: =C27*12 -> 0
B28: Imovel | D28: =C28*12 -> 0
B29: Veiculo | D29: =C29*12 -> 0
B30: Sistema de Software | D30: =C30*12 -> 0
D31: =C31*12 -> 0
D32: =C32*12 -> 0
A33: TOTAL | C33: =SUM(C26:C32) -> 0 | D33: =SUM(D26:D32) -> 0
A35: NATUREZA DA DESPESA | B35: DESCRIÇÃO | C35: VALORES
C36: Média Mensal | D36: Total Anual
A37: Manuteção | B37: Equipamento de Informatica | D37: =C37*12 -> 0
B38: Predial e Imobiliario | D38: =C38*12 -> 0
B39: Veiculos | D39: =C39*12 -> 0
B40: Mobiliario e Equipamentos | D40: =C40*12 -> 0
B41: Outras Manutenção (descrever) | D41: =C41*12 -> 0
D42: =C42*12 -> 0
D43: =C43*12 -> 0
D44: =C44*12 -> 0
A45: TOTAL | C45: =SUM(C37:C44) -> 0 | D45: =SUM(D37:D44) -> 0
A47: NATUREZA DA DESPESA | B47: DESCRIÇÃO | C47: VALORES
...

Sheet TOTAL
A3: MEMÓRIA DE CÁLCULO III - TOTAL
A4: ESPECIFICAÇÃO | B4: MÉDIA MENSAL | D4: CUSTO ...... MESES
A5: RECURSOS HUMANOS | B5: Média Mensal 1º Semestre | C5: =RH!Q17 -> 832200.32 | D5: =RH!P48 -> 1709445
B6: Média Mensal 2º Semestre | C6: =RH!Q32 -> 877244.69
A7: OUTRAS CATEGORIAS
A8: Gêneros Alimentícios | B8: ='OUTRAS CATEGORIAS'!C22 -> 0 | D8: ='OUTRAS CATEGORIAS'!D22 -> 0
A9: Outros Materiais de Consumo | B9: ='OUTRAS CATEGORIAS'!C62 -> 0 | D9: ='OUTRAS CATEGORIAS'!D62 -> 0
A10: Outros Serviços de Terceiros | B10: ='OUTRAS CATEGORIAS'!C74 -> 0 | D10: ='OUTRAS CATEGORIAS'!D74 -> 0
A11: Locações | B11: ='OUTRAS CATEGORIAS'!C33 -> 0 | D11: ='OUTRAS CATEGORIAS'!D33 -> 0
A12: Utilidades Públicas | B12: ='OUTRAS CATEGORIAS'!C87 -> 0 | D12: ='OUTRAS CATEGORIAS'!D87 -> 0
A13: Bens e Materiais Permanentes | B13: ='OUTRAS CATEGORIAS'!C13 -> 0 | D13: ='OUTRAS CATEGORIAS'!D13 -> 0
A14: Outras Despesas | B14: ='OUTRAS CATEGORIAS'!C45 -> 0 | D14: ='OUTRAS CATEGORIAS'!D45 -> 0
A15: Total | B15: =SUM(B8:B14) -> 0 | D15: =SUM(D8:D14) -> 0
A16: TOTAL (RH + OUTRAS CATEGORIAS) | B16: Média Mensal 1º Semestre | C16: =C5+B15 -> 832200.32 | D16: =D5+D15 -> 1709445
B17: Média Mensal 2º Semestre | C17: =C6+B15 -> 877244.69
A19: ASSINATURAS DOS(AS) RESPONSÁVEIS PELA MEMÓRIA DE CÁLCULO
A20: ASSINATURA DO(A) RESPONSÁVEL PELA ELABORAÇÃO
A21: Nome | C21: Assinatura
A23: ASSINATURA DO(A) COORDENADOR(A)
A24: Nome | C24: Assinatura
A26: ASSINATURA DO(A) PRESIDENTE(A) DA ORGANIZAÇÃO
A27: Nome | C27: Assinatura
