Workbook

Sheet CAPA
A3: MEMÓRIA DE CÁLCULO - PLANO DE TRABALHO
A5: IDENTIFICAÇÃO DA ORGANIZAÇÃO
A6: Razão Social | B6: Associação Beneficente Residencial Evangélico Benaiah
A7: Sigla
A9: NOME DA OFERTA SOCIOASSISTENCIAL
A10: Serviço de Acolhimento ao Idoso
A12: PROTOCOLO DE RECEBIMENTO
A13: Data | C13: Nome | D13: Assinatura

Sheet RH
A3: MEMÓRIA DE CÁLCULO I - RECURSOS HUMANOS
A5: PERÍODO: (discriminar em meses anterior ao dissídio da categoria) | G5: RATEIO MENSAL | I5: ENCARGOS PATRONAIS | L5: BENEFÍCIOS | N5: TOTAL
A6: FUNÇÃO | B6: CARGA HORÁRIA | C6: SALÁRIO BRUTO | D6: SALÁRIO LÍQUIDO | E6: QTDE | F6: SALÁRIO TOTAL | G6: FÉRIAS | H6: 13º SALÁRIO | I6: FGTS TOTAL (8%) | J6: INSS TOTAL (20%) | K6: PIS TOTAL (1%) | L6: CESTA BÁSICA (R$ 90,00) | M6: AUXÍLIO TRANSPORTE (MÉDIA DE R$ 100,00) | N6: CUSTO MENSAL | O6: CUSTO TOTAL
A7: coordenadora | B7: 40 horas | D7: 6905 | E7: 1 | F7: 6905 | G7: =((F7*0.33)+F7)/12 -> 765.30417 | H7: 0 | I7: =SUM(F7:H7)*0.08 -> 613.62433 | J7: =SUM(F7:H7)*0.15 -> 1150.5456 | K7: 0 | L7: =(420*E7) -> 420 | M7: 0 | N7: =SUM(F7:M7) -> 9854.4741 | O7: =N7*6 -> 59126.845
A8: assistente social | B8: 30horas | D8: 5243 | E8: 1 | F8: 5250 | G8: =((F8*0.33)+F8)/12 -> 581.875 | H8: 0 | I8: =SUM(F8:H8)*0.08 -> 466.55 | J8: =SUM(F8:H8)*0.15 -> 874.78125 | K8: 0 | L8: =(420*E8) -> 420 | M8: 0 | N8: =SUM(F8:M8) -> 7593.2063 | O8: =N8*6 -> 45559.238
A9: psicologa | B9: 30 horas | D9: 5243 | E9: 1 | F9: =D9*E9 -> 5243 | G9: =((F9*0.33)+F9)/12 -> 581.09917 | H9: 0 | I9: =SUM(F9:H9)*0.08 -> 465.92793 | J9: =SUM(F9:H9)*0.15 -> 873.61487 | K9: 0 | L9: =(420*E9) -> 420 | M9: 0 | N9: =SUM(F9:M9) -> 7583.642 | O9: =N9*6 -> 45501.852
A10: Enfermeira Padrão | B10: 30 horas | D10: 5243 | E10: 1 | F10: =D10*E10 -> 5243 | G10: =((F10*0.33)+F10)/12 -> 581.09917 | H10: 0 | I10: =SUM(F10:H10)*0.08 -> 465.92793 | J10: =SUM(F10:H10)*0.15 -> 873.61487 | K10: 0 | L10: =(420*E10) -> 420 | M10: 0 | N10: =SUM(F10:M10) -> 7583.642 | O10: =N10*6 -> 45501.852
A11: nutricionista | B11: 30 horas | D11: 5243 | E11: 1 | F11: =D11*E11 -> 5243 | G11: =((F11*0.33)+F11)/12 -> 581.09917 | H11: 0 | I11: =SUM(F11:H11)*0.08 -> 465.92793 | J11: =SUM(F11:H11)*0.15 -> 873.61487 | K11: 0 | L11: =(420*E11) -> 420 | M11: 0 | N11: =SUM(F11:M11) -> 7583.642 | O11: =N11*6 -> 45501.852
A12: Terapeuta Ocupacional | B12: 30 horas | D12: 5243 | E12: 1 | F12: =D12*E12 -> 5243 | G12: =((F12*0.33)+F12)/12 -> 581.09917 | H12: 0 | I12: =SUM(F12:H12)*0.08 -> 465.92793 | J12: =SUM(F12:H12)*0.15 -> 873.61487 | K12: 0 | L12: =(420*E12) -> 420 | M12: 0 | N12: =SUM(F12:M12) -> 7583.642 | O12: =N12*6 -> 45501.852
A13: Assistente. financiero | B13: 40 horas | D13: 4128 | E13: 1 | F13: =D13*E13 -> 4128 | G13: =((F13*0.33)+F13)/12 -> 457.52 | H13: 0 | I13: =SUM(F13:H13)*0.08 -> 366.8416 | J13: =SUM(F13:H13)*0.15 -> 687.828 | K13: 0 | L13: =(420*E13) -> 420 | M13: 0 | N13: =SUM(F13:M13) -> 6060.1896 | O13: =N13*6 -> 36361.138
A14: Aux, escritório | B14: 44 horas | D14: 2600 | E14: 1 | F14: =D14*E14 -> 2600 | G14: =((F14*0.33)+F14)/12 -> 288.16667 | H14: 0 | I14: =SUM(F14:H14)*0.08 -> 231.05333 | J14: =SUM(F14:H14)*0.15 -> 433.225 | K14: 0 | L14: =(420*E14) -> 420 | M14: 0 | N14: =SUM(F14:M14) -> 3972.445 | O14: =N14*6 -> 23834.67
A15: aux. enf/cuidador | B15: 12x36 | D15: 3200 | E15: 16 | F15: =D15*E15 -> 51200 | G15: =((F15*0.33)+F15)/12 -> 5674.6667 | H15: 0 | I15: =SUM(F15:H15)*0.08 -> 4549.9733 | J15: =SUM(F15:H15)*0.15 -> 8531.2 | K15: 0 | L15: =(420*E15) -> 6720 | M15: 0 | N15: =SUM(F15:M15) -> 76675.84 | O15: =N15*6 -> 460055.04
A16: Cozinheira/serv. gerais | B16: 12x36 | D16: 2600 | E16: 11 | F16: =D16*E16 -> 28600 | G16: =((F16*0.33)+F16)/12 -> 3169.8333 | H16: 0 | I16: =SUM(F16:H16)*0.08 -> 2541.5867 | J16: =SUM(F16:H16)*0.15 -> 4765.475 | K16: 0 | L16: =(420*E16) -> 4620 | M16: 0 | N16: =SUM(F16:M16) -> 43696.895 | O16: =N16*6 -> 262181.37
F17: =C17*E17 -> 0 | G17: =((F17*0.33)+F17)/9 -> 0 | H17: =F17/9 -> 0 | I17: =SUM(F17:H17)*0.08 -> 0 | J17: =SUM(F17:H17)*0.2 -> 0 | K17: =SUM(F17:H17)*0.01 -> 0 | L17: =(90*E17) -> 0 | M17: =(100*E17) -> 0 | N17: =SUM(F17:M17) -> 0 | O17: =N17*2 -> 0
F18: =C18*E18 -> 0 | G18: =((F18*0.33)+F18)/9 -> 0 | H18: =F18/9 -> 0 | I18: =SUM(F18:H18)*0.08 -> 0 | J18: =SUM(F18:H18)*0.2 -> 0 | K18: =SUM(F18:H18)*0.01 -> 0 | L18: =(90*E18) -> 0 | M18: =(100*E18) -> 0 | N18: =SUM(F18:M18) -> 0 | O18: =N18*2 -> 0
A19: TOTAL | D19: =SUM(D7:D18) -> 45648 | F19: =SUM(F7:F18) -> 119655 | G19: =SUM(G7:G18) -> 13261.763 | H19: =SUM(H7:H18) -> 0 | I19: =SUM(I7:I18) -> 10633.341 | J19: =SUM(J7:J18) -> 19937.514 | K19: =SUM(K7:K18) -> 0 | L19: =(90*E19) -> 0 | M19: =SUM(M7:M18) -> 0 | N19: =SUM(N7:N18) -> 178187.62 | O19: =SUM(O7:O18) -> 1069125.7
A20: TOTAL | C20: =C19*6 -> 0 | D20: =D19*6 -> 273888 | F20: =F19*6 -> 717930 | G20: =G19*6 -> 79570.575 | H20: =H19*6 -> 0 | I20: =I19*6 -> 63800.046 | J20: =J19*6 -> 119625.09 | K20: =K19*6 -> 0 | L20: =L19*6 -> 0 | M20: =M19*6 -> 0 | N20: =N19*6 -> 1069125.7 | O20: =SUM(O8:O19) -> 2079124.6
A22: PERÍODO: (discriminar em meses posterior ao dissídio da categoria) | G22: RATEIO MENSAL | I22: ENCARGOS PATRONAIS | L22: BENEFÍCIOS | N22: TOTAL
A23: FUNÇÃO | B23: CARGA HORÁRIA | D23: SALÁRIO + DISSÍDIO (5%) | E23: QTDE | F23: SALÁRIO LIQUIDO | G23: FÉRIAS | H23: 13º SALÁRIO | I23: FGTS TOTAL (8%) | J23: INSS TOTAL (20%) | K23: PIS TOTAL (1%) | L23: CESTA BÁSICA (R$ 90,00) | M23: AUXÍLIO TRANSPORTE (MÉDIA DE R$ 100,00) | N23: CUSTO MENSAL | O23: CUSTO TOTAL
A24: coordenadora | B24: 40 horas | D24: 7250 | E24: 1 | F24: =D24*E24 -> 7250 | G24: =((F24*0.33)+F24)/12 -> 803.54167 | H24: 0 | I24: =SUM(F24:H24)*0.08 -> 644.28333 | J24: 1208.0295 | K24: 0 | L24: =(450*E24) -> 450 | M24: 0 | N24: =SUM(F24:M24) -> 10355.855 | O24: =N24*6 -> 62135.127
A25: assistente social | B25: 30 horas | D25: 5505 | E25: 1 | F25: =D25*E25 -> 5505 | G25: =((F25*0.33)+F25)/12 -> 610.1375 | H25: 0 | I25: =SUM(F25:H25)*0.08 -> 489.211 | J25: =SUM(F25:H25)*0.15 -> 917.27062 | K25: 0 | L25: =(450*E25) -> 450 | M25: 0 | N25: =SUM(F25:M25) -> 7971.6191 | O25: =N25*6 -> 47829.715
A26: psicologa | B26: 30 horas | D26: 5505 | E26: 1 | F26: =D26*E26 -> 5505 | G26: =((F26*0.33)+F26)/12 -> 610.1375 | H26: 0 | I26: =SUM(F26:H26)*0.08 -> 489.211 | J26: =SUM(F26:H26)*0.15 -> 917.27062 | K26: 0 | L26: =(450*E26) -> 450 | M26: 0 | N26: =SUM(F26:M26) -> 7971.6191 | O26: =N26*6 -> 47829.715
A27: Enfermeira Padrão | B27: 30 horas | D27: 5505 | E27: 1 | F27: =D27*E27 -> 5505 | G27: =((F27*0.33)+F27)/12 -> 610.1375 | H27: 0 | I27: =SUM(F27:H27)*0.08 -> 489.211 | J27: =SUM(F27:H27)*0.15 -> 917.27062 | K27: 0 | L27: =(450*E27) -> 450 | M27: 0 | N27: =SUM(F27:M27) -> 7971.6191 | O27: =N27*6 -> 47829.715
A28: nutricionista | B28: 30 horas | D28: 5505 | E28: 1 | F28: =D28*E28 -> 5505 | G28: =((F28*0.33)+F28)/12 -> 610.1375 | H28: 0 | I28: =SUM(F28:H28)*0.08 -> 489.211 | J28: =SUM(F28:H28)*0.15 -> 917.27062 | K28: 0 | L28: =(450*E28) -> 450 | M28: 0 | N28: =SUM(F28:M28) -> 7971.6191 | O28: =N28*6 -> 47829.715
A29: Terapeuta Ocupacional | B29: 30 horas | D29: 5505 | E29: 1 | F29: =D29*E29 -> 5505 | G29: =((F29*0.33)+F29)/12 -> 610.1375 | H29: 0 | I29: =SUM(F29:H29)*0.08 -> 489.211 | J29: =SUM(F29:H29)*0.15 -> 917.27062 | K29: 0 | L29: =(450*E29) -> 450 | M29: 0 | N29: =SUM(F29:M29) -> 7971.6191 | O29: =N29*6 -> 47829.715
A30: Aux. financiero | B30: 40 horas | D30: 4334 | E30: 1 | F30: =D30*E30 -> 4334 | G30: =((F30*0.33)+F30)/12 -> 480.35167 | H30: 0 | I30: =SUM(F30:H30)*0.08 -> 385.14813 | J30: =SUM(F30:H30)*0.15 -> 722.15275 | K30: 0 | L30: =(450*E30) -> 450 | M30: 0 | N30: =SUM(F30:M30) -> 6371.6525 | O30: =N30*6 -> 38229.915
A31: Aux, escritório | B31: 44 horas | D31: 2730 | E31: 1 | F31: =D31*E31 -> 2730 | G31: =((F31*0.33)+F31)/12 -> 302.575 | H31: 0 | I31: =SUM(F31:H31)*0.08 -> 242.606 | J31: =SUM(F31:H31)*0.15 -> 454.88625 | K31: 0 | L31: =(450*E31) -> 450 | M31: 0 | N31: =SUM(F31:M31) -> 4180.0673 | O31: =N31*6 -> 25080.404
A32: aux. enf/cuidador | B32: 12x36 | D32: =(D15*0.05)+D15 -> 3360 | E32: 16 | F32: =D32*E32 -> 53760 | G32: =((F32*0.33)+F32)/12 -> 5958.4 | H32: 0 | I32: =SUM(F32:H32)*0.08 -> 4777.472 | J32: =SUM(F32:H32)*0.15 -> 8957.76 | K32: 0 | L32: =(450*E32) -> 7200 | M32: 0 | N32: =SUM(F32:M32) -> 80653.632 | O32: =N32*6 -> 483921.79
A33: Cozinheira/serv. gerais | B33: 12x36 | D33: =(D16*0.05)+D16 -> 2730 | E33: 11 | F33: =D33*E33 -> 30030 | G33: =((F33*0.33)+F33)/12 -> 3328.325 | H33: 0 | I33: =SUM(F33:H33)*0.08 -> 2668.666 | J33: =SUM(F33:H33)*0.15 -> 5003.7487 | K33: 0 | L33: =(450*E33) -> 4950 | M33: 0 | N33: =SUM(F33:M33) -> 45980.74 | O33: =N33*6 -> 275884.44
D34: =(C18*0.05)+C18 -> 0 | F34: =D34*E34 -> 0 | G34: =((F34*0.33)+F34)/12 -> 0 | H34: =F34/12 -> 0 | I34: =SUM(F34:H34)*0.08 -> 0 | J34: =SUM(F34:H34)*0.2 -> 0 | K34: =SUM(F34:H34)*0.01 -> 0 | L34: =(125*E34) -> 0 | M34: =(100*E34) -> 0 | N34: =SUM(F34:M34) -> 0 | O34: =N34*6 -> 0
A35: TOTAL | D35: =SUM(D24:D34) -> 47929 | F35: =SUM(F24:F34) -> 125629 | G35: =SUM(G24:G34) -> 13923.881 | H35: =SUM(H24:H34) -> 0 | I35: =SUM(I24:I34) -> 11164.23 | J35: =SUM(J24:J34) -> 20932.93 | K35: =SUM(K24:K34) -> 0 | L35: =SUM(L24:L34) -> 15750 | M35: =SUM(M24:M34) -> 0 | ... O35: =SUM(O24:O34) -> 1124400.3
A36: TOTAL | D36: =D35*6 -> 287574 | F36: =F35*6 -> 753774 | G36: =G35*6 -> 83543.285 | H36: =H35*6 -> 0 | I36: =I35*6 -> 66985.383 | J36: =J35*6 -> 125597.58 | K36: =K35*6 -> 0 | L36: =L35*6 -> 94500 | M36: =M35*6 -> 0 | N36: =N35*6 -> 1124400.3
A38: SOMATÓRIA
A39: PERÍODO: (discriminar total de meses da parceria no ano) | G39: RATEIO | I39: ENCARGOS PATRONAIS | L39: BENEFÍCIOS | N39: TOTAL
A40: FUNÇÃO | B40: CARGA HORÁRIA | C40: SALÁRIO BRUTO | D40: SALÁRIO LÍQUIDO | E40: QTDE | F40: SALÁRIO TOTAL | G40: FÉRIAS | H40: 13º SALÁRIO | I40: FGTS TOTAL (8%) | J40: INSS TOTAL (20%) | K40: PIS TOTAL (1%) | L40: CESTA BÁSICA (R$ 90,00) | M40: AUXÍLIO TRANSPORTE (MÉDIA DE R$ 100,00) | N40: CUSTO TOTAL
A41: coordenadora | D41: =(D7*6)+(D24*6) -> 84930 | E41: 1 | F41: =D41*E41 -> 84930 | G41: =(G7*6)+(G24*6) -> 9413.075 | H41: =(H7*6)+(H24*6) -> 0 | I41: =(I7*6)+(I24*6) -> 7547.446 | J41: =(J7*6)+(J24*6) -> 14151.451 | K41: =(K7*6)+(K24*6) -> 0 | L41: =(L7*6)+(L24*6) -> 5220 | M41: =(M7*6)+(M24*6) -> 0 | N41: =O7+O24 -> 121261.97
A42: assistente social | D42: =(D8*6)+(D25*6) -> 64488 | E42: 1 | F42: =D42*E42 -> 64488 | G42: =(G8*6)+(G25*6) -> 7152.075 | H42: =(H8*6)+(H25*6) -> 0 | I42: =(I8*6)+(I25*6) -> 5734.566 | J42: =(J8*6)+(J25*6) -> 10752.311 | K42: =(K8*6)+(K25*6) -> 0 | L42: =(L8*6)+(L25*6) -> 5220 | M42: =(M8*6)+(M25*6) -> 0 | N42: =O8+O25 -> 93388.952
A43: psicologa | D43: =(D9*6)+(D26*6) -> 64488 | E43: 1 | F43: =D43*E43 -> 64488 | G43: =(G9*6)+(G26*6) -> 7147.42 | H43: =(H9*6)+(H26*6) -> 0 | I43: =(I9*6)+(I26*6) -> 5730.8336 | J43: =(J9*6)+(J26*6) -> 10745.313 | K43: =(K9*6)+(K26*6) -> 0 | L43: =(L9*6)+(L26*6) -> 5220 | M43: =(M9*6)+(M26*6) -> 0 | N43: =O9+O26 -> 93331.567
A44: Enfermeira Padrão | D44: =(D10*6)+(D27*6) -> 64488 | E44: 1 | F44: =D44*E44 -> 64488 | G44: =(G10*6)+(G27*6) -> 7147.42 | H44: =(H10*6)+(H27*6) -> 0 | I44: =(I10*6)+(I27*6) -> 5730.8336 | J44: =(J10*6)+(J27*6) -> 10745.313 | K44: =(K10*6)+(K27*6) -> 0 | L44: =(L10*6)+(L27*6) -> 5220 | M44: =(M10*6)+(M27*6) -> 0 | N44: =O10+O27 -> 93331.567
A45: nutricionista | D45: =(D11*6)+(D28*6) -> 64488 | E45: 1 | F45: =D45*E45 -> 64488 | G45: =(G11*6)+(G28*6) -> 7147.42 | H45: =(H11*6)+(H28*6) -> 0 | I45: =(I11*6)+(I28*6) -> 5730.8336 | J45: =(J11*6)+(J28*6) -> 10745.313 | K45: =(K11*6)+(K28*6) -> 0 | L45: =(L11*6)+(L28*6) -> 5220 | M45: =(M11*6)+(M28*6) -> 0 | N45: =O11+O28 -> 93331.567
...

Sheet OUTRAS CATEGORIAS
A3: MEMÓRIA DE CÁLCULO II - OUTRAS CATEGORIAS
A5: NATUREZA DA DESPESA | B5: DESCRIÇÃO | C5: VALORES
C6: Média Mensal | D6: Total Anual
A7: Gêneros Alimentícios | B7: Água potável (Galão) | D7: =C7*12 -> 0
B8: Alimentação | C8: 0 | D8: =C8*12 -> 0
D9: =C9*12 -> 0
D10: =C10*12 -> 0
D11: =C11*12 -> 0
A12: TOTAL | C12: 0 | D12: =SUM(D7:D11) -> 0
A14: NATUREZA DA DESPESA | B14: DESCRIÇÃO | C14: VALORES
C15: Média Mensal | D15: Total Anual
A16: Outros Materiais de Consumo | B16: Materiais de Higiene e descartáveis | C16: 0 | D16: =C16*12 -> 0
B17: Materiais de Escritório | C17: 0 | D17: =C17*12 -> 0
B18: Materiais para manutenção predial (hidráulica e elétrica) | C18: 0 | D18: =C18*12 -> 0
B19: Combustível e Lubrificantes para máquinas agrícolas | C19: 0 | D19: =C19*12 -> 0
B20: Peças para manutenção de máquinas e equipamentos (SOMENTE PARA SERVIÇOS COM AUTORIZAÇÃO NO TERMO DE REFERÊNCIA) | C20: 0 | D20: =C20*12 -> 0
B21: Produto de limpeza | C21: 0 | D21: =C21*12 -> 0
B22: Produto cirurgico | C22: 0 | D22: =C22*12 -> 0
D23: =C23*12 -> 0
D24: =C24*12 -> 0
A25: TOTAL | C25: 0 | D25: =SUM(D16:D24) -> 0
A27: NATUREZA DA DESPESA | B27: DESCRIÇÃO | C27: VALORES
C28: Média Mensal | D28: Total Anual
A29: Outros Serviços de Terceiros | B29: Honorários Contábeis | C29: 0 | D29: =C29*12 -> 0
B30: Honorários Jurídicos | D30: =C30*12 -> 0
B31: Serviços de Manutenção Predial | C31: 0 | D31: =C31*12 -> 0
B32: Serviços de manutenção de máquinas e equipamentos | C32: 0 | D32: =C32*12 -> 0
B33: Manutenção veiculos | C33: 0 | D33: =C33*12 -> 0
B34: Propaganda e manutenção das plataformas digitais | C34: 0 | D34: =C34*12 -> 0
D35: =C35*12 -> 0
D36: =C36*12 -> 0
A37: TOTAL | C37: 0 | D37: =SUM(D29:D36) -> 0
A39: NATUREZA DA DESPESA | B39: DESCRIÇÃO | C39: VALORES
C40: Média Mensal | D40: Total Anual
A41: Locações | B41: Locação de Equipamentos de Informática | D41: =C41*12 -> 0
B42: Locação de Equipamentos de Segurança e Monitoramento | D42: =C42*12 -> 0
D43: =C43*12 -> 0
D44: =C44*12 -> 0
D45: =C45*12 -> 0
D46: =C46*12 -> 0
...

Sheet TOTAL
A3: MEMÓRIA DE CÁLCULO III - TOTAL
A4: ESPECIFICAÇÃO | B4: MÉDIA MENSAL | D4: CUSTO 8 MESES
A5: RECURSOS HUMANOS | B5: Média Mensal 1º Semestre | C5: =RH!O19 -> 1069125.7 | D5: =RH!N52 -> 2193526
B6: Média Mensal 2º Semestre | C6: =RH!O35 -> 1124400.3
A7: OUTRAS CATEGORIAS
A8: Gêneros Alimentícios | B8: ='OUTRAS CATEGORIAS'!C12 -> 0 | D8: ='OUTRAS CATEGORIAS'!D12 -> 0
A9: Outros Materiais de Consumo | B9: ='OUTRAS CATEGORIAS'!C25 -> 0 | D9: ='OUTRAS CATEGORIAS'!D25 -> 0
A10: Outros Serviços de Terceiros | B10: ='OUTRAS CATEGORIAS'!C37 -> 0 | D10: ='OUTRAS CATEGORIAS'!D37 -> 0
A11: Locações | B11: ='OUTRAS CATEGORIAS'!C48 -> 0 | D11: ='OUTRAS CATEGORIAS'!D48 -> 0
A12: Utilidades Públicas | B12: ='OUTRAS CATEGORIAS'!C61 -> 0 | D12: ='OUTRAS CATEGORIAS'!D61 -> 0
A13: Bens e Materiais Permanentes | B13: ='OUTRAS CATEGORIAS'!C71 -> 0 | D13: ='OUTRAS CATEGORIAS'!D71 -> 0
A14: Outras Despesas | B14: ='OUTRAS CATEGORIAS'!C83 -> 0 | D14: ='OUTRAS CATEGORIAS'!D83 -> 0
A15: Total | B15: =SUM(B8:B14) -> 0 | D15: =SUM(D8:D14) -> 0
A16: TOTAL (RH + OUTRAS CATEGORIAS) | B16: Média Mensal 1º Semestre | C16: =C5+B15 -> 1069125.7 | D16: =D5+D15 -> 2193526
B17: Média Mensal 2º Semestre | C17: =C6+B15 -> 1124400.3
A19: ASSINATURAS DOS(AS) RESPONSÁVEIS PELA MEMÓRIA DE CÁLCULO
A20: ASSINATURA DO(A) RESPONSÁVEL PELA ELABORAÇÃO
A21: Nome | C21: Assinatura
A23: ASSINATURA DO(A) COORDENADOR(A)
A24: Nome | C24: Assinatura
A26: ASSINATURA DO(A) PRESIDENTE(A) DA ORGANIZAÇÃO
A27: Nome | C27: Assinatura
